BEGIN:VCALENDAR
VERSION:2.0
PRODID:-//ChamberMaster//Event Calendar 2.0//EN
METHOD:PUBLISH
X-PUBLISHED-TTL:P3D
REFRESH-INTERVAL:P3D
CALSCALE:GREGORIAN
BEGIN:VEVENT
DTSTART:20120316T003000Z
DTEND:20120316T020000Z
X-MICROSOFT-CDO-ALLDAYEVENT:FALSE
SUMMARY:Ravenswood Health Center Wine and Wellness
DESCRIPTION:Please join us for an informative evening of Wine and Wellness.  Topic by leading chiropractor Dr. Jason Fennema will be "Eating\, Moving and Thinking Well".  Learn simple ways to create a wellness lifestyle and more about why nutrition is vital to optimal health.  Perfect for anyone looking to create a healthier lifestyle for themselves and their family!  Free\, wine will be served and a 50$ Wallace Farms (the city's leading grass fed beef supplier) certificate will be raffled.
X-ALT-DESC;FMTTYPE=text/html:<span style="background-color: #ffff00">Please join us for an informative evening of Wine and Wellness.&nbsp\; Topic by leading chiropractor Dr. Jason Fennema will be &quot\;Eating\, Moving and Thinking Well&quot\;.&nbsp\; Learn simple ways to create a wellness lifestyle and more about why nutrition is vital to optimal health.&nbsp\; Perfect for anyone looking to create a healthier lifestyle for themselves and their family!&nbsp\; Free\, wine will be served and a 50$ Wallace Farms (the city&#39\;s leading grass fed beef supplier)&nbsp\;certificate will be raffled.</span>
LOCATION:Ravenswood Health Center\, 4256 North Ravenswood. Ample Free Parking.
UID:e.697.2492
SEQUENCE:3
DTSTAMP:20260420T015646Z
URL:https://www.lincolnsquare.org/events/details/ravenswood-health-center-wine-and-wellness-2492
END:VEVENT

END:VCALENDAR
