BEGIN:VCALENDAR
VERSION:2.0
PRODID:-//ChamberMaster//Event Calendar 2.0//EN
METHOD:PUBLISH
X-PUBLISHED-TTL:P3D
REFRESH-INTERVAL:P3D
CALSCALE:GREGORIAN
BEGIN:VEVENT
DTSTART:20100520T150000Z
DTEND:20100520T170000Z
X-MICROSOFT-CDO-ALLDAYEVENT:FALSE
SUMMARY:Ravenswood Runners Club
DESCRIPTION:The Ravenswood Runners Club is a brand new running club started this year to serve regular runners of all abilities (beginners and baby-joggers welcome and encouraged).  Our mission is to promote fitness with quality leadership and club spirit and provide evidence-based wellness education.  This run will be led by Coach Amada.  For more information or to register please call Nadia Hare at (773) 878-7330.
X-ALT-DESC;FMTTYPE=text/html:The Ravenswood Runners Club is a brand new running club started this year to serve regular runners of all abilities (beginners and baby-joggers welcome and encouraged).  Our mission is to promote fitness with quality leadership and club spirit and provide evidence-based wellness education.  This run will be led by Coach Amada.  For more information or to register please call Nadia Hare at (773) 878-7330.
LOCATION:Ravenswood Chiropractic & Wellness Center\, 5215 North Ravenswood\, Suite 105 Chicago IL 60640
UID:e.697.488
SEQUENCE:3
DTSTAMP:20260421T123926Z
URL:https://www.lincolnsquare.org/events/details/ravenswood-runners-club-488
END:VEVENT

END:VCALENDAR
