BEGIN:VCALENDAR
VERSION:2.0
PRODID:-//ChamberMaster//Event Calendar 2.0//EN
METHOD:PUBLISH
X-PUBLISHED-TTL:P3D
REFRESH-INTERVAL:P3D
CALSCALE:GREGORIAN
BEGIN:VEVENT
DTSTART:20110128T013000Z
DTEND:20110128T033000Z
X-MICROSOFT-CDO-ALLDAYEVENT:FALSE
SUMMARY:Red Door Animal Shelter Wine Tasting at Fine Wine Brokers
DESCRIPTION:An annual wine tasting to benefit the Red Door Animal Shelter.  Over fifty wines and spirits will be poured.  10% of the sales for the night will go directly to the Red Door Shelter.  Please register at www.reddoorshelter.org.
X-ALT-DESC;FMTTYPE=text/html:An annual wine tasting to benefit the Red Door Animal Shelter.  Over fifty wines and spirits will be poured.  10% of the sales for the night will go directly to the Red Door Shelter.  Please register at www.reddoorshelter.org.
LOCATION:Fine Wine Brokers 4621 N Lincoln Ave Chicago\, IL 60625
UID:e.697.707
SEQUENCE:3
DTSTAMP:20260421T000515Z
URL:https://www.lincolnsquare.org/events/details/red-door-animal-shelter-wine-tasting-at-fine-wine-brokers-707
END:VEVENT

END:VCALENDAR
