BEGIN:VCALENDAR
VERSION:2.0
PRODID:-//ChamberMaster//Event Calendar 2.0//EN
METHOD:PUBLISH
X-PUBLISHED-TTL:P3D
REFRESH-INTERVAL:P3D
CALSCALE:GREGORIAN
BEGIN:VEVENT
DTSTART:20110303T233000Z
DTEND:20110304T023000Z
X-MICROSOFT-CDO-ALLDAYEVENT:FALSE
SUMMARY:Rock\, Roll & Bowl
DESCRIPTION:The Rock\, Roll & Bowl is Lawrence Hall?s premier fundraising event benefiting the children and families who are changing their lives at Lawrence Hall Youth Services. This event raises funds\, builds awareness and cultivates new friends for Lawrence Hall and its mission to disrupt the downward cycle of poverty\, violence and despair. Now in its seventh year\, this event has raised over $150\,000 to meet the critical needs of youth that are rising above the abuse and neglect of their pasts. \n\n\n\nTriple ?7? 2011: To celebrate our 7th year\, the event will have a Vegas theme\, with casino style raffle games: Craps\, Roulette\, Blackjack and 50/50 raffle.\n\n\n\nTarget Audience: Fun-loving urban professional crowd
X-ALT-DESC;FMTTYPE=text/html:The Rock\, Roll &amp\; Bowl is Lawrence Hall?s premier fundraising event benefiting the children and families who are changing their lives at Lawrence Hall Youth Services. This event raises funds\, builds awareness and cultivates new friends for Lawrence Hall and its mission to disrupt the downward cycle of poverty\, violence and despair. Now in its seventh year\, this event has raised over $150\,000 to meet the critical needs of youth that are rising above the abuse and neglect of their pasts. \n<br>\n<br>Triple ?7? 2011: To celebrate our 7th year\, the event will have a Vegas theme\, with casino style raffle games: Craps\, Roulette\, Blackjack and 50/50 raffle.\n<br>\n<br>Target Audience: Fun-loving urban professional crowd\n<br>\n<br>
LOCATION:10 Pin Bowling Lounge 330 N. State Street\, Chicago\, IL 60654
UID:e.697.757
SEQUENCE:3
DTSTAMP:20260420T204821Z
URL:https://www.lincolnsquare.org/events/details/rock-roll-bowl-757
END:VEVENT

END:VCALENDAR
