BEGIN:VCALENDAR
VERSION:2.0
PRODID:-//ChamberMaster//Event Calendar 2.0//EN
METHOD:PUBLISH
X-PUBLISHED-TTL:P3D
REFRESH-INTERVAL:P3D
CALSCALE:GREGORIAN
BEGIN:VEVENT
DTSTART:20100501T140000Z
DTEND:20100501T200000Z
X-MICROSOFT-CDO-ALLDAYEVENT:FALSE
SUMMARY:Rummage Sale\, Perennial & Bake Sale Plus Lunch at Luther Memorial Church
DESCRIPTION:Looking for a bargain in this tough economy? Come shop our great sale and enjoy a delicious lunch! Luther Memorial Church of Chicago\, 2500 W. Wilson Ave.\, Chicago IL 60625\, is hosting its Annual Spring Rummage\, Perennial & Bake Sale Plus Lunch event on SATURDAY\, MAY 1\, from 9 a.m. to 3 p.m. For more information\, please call the church office 773/539-3018 or visit its Web site www.luthermemorialchicago.org.
X-ALT-DESC;FMTTYPE=text/html:Looking for a bargain in this tough economy? Come shop our great sale and enjoy a delicious lunch! Luther Memorial Church of Chicago\, 2500 W. Wilson Ave.\, Chicago IL 60625\, is hosting its Annual Spring Rummage\, Perennial & Bake Sale Plus Lunch event on SATURDAY\, MAY 1\, from 9 a.m. to 3 p.m. For more information\, please call the church office 773/539-3018 or visit its Web site www.luthermemorialchicago.org.
LOCATION:2500 W Wilson Ave
UID:e.697.318
SEQUENCE:3
DTSTAMP:20260421T125621Z
URL:https://www.lincolnsquare.org/events/details/rummage-sale-at-luther-memorial-church-318
END:VEVENT

END:VCALENDAR
