BEGIN:VCALENDAR
VERSION:2.0
PRODID:-//ChamberMaster//Event Calendar 2.0//EN
METHOD:PUBLISH
X-PUBLISHED-TTL:P3D
REFRESH-INTERVAL:P3D
CALSCALE:GREGORIAN
BEGIN:VEVENT
DTSTART:20100601T180000Z
DTEND:20100601T190000Z
X-MICROSOFT-CDO-ALLDAYEVENT:FALSE
SUMMARY:Safe Routes for Seniors Presentation
DESCRIPTION:Safe Routes for Seniors Presentation A pedestrian safety presentation focused on older adults. Discussion on what situations to be aware of and what we can do to take charge of our own safety. Free reflective armbands handed out and a raffle for a high visibility umbrella.
X-ALT-DESC;FMTTYPE=text/html:<div><span style="font-family: &quot\;Arial&quot\;\,&quot\;sans-serif&quot\;\; font-size: 10pt\; mso-fareast-font-family: Calibri\; mso-fareast-theme-font: minor-latin\; mso-ansi-language: EN-US\; mso-fareast-language: EN-US\; mso-bidi-language: AR-SA">Safe Routes for Seniors Presentation A pedestrian safety presentation focused on older adults. Discussion on what situations to be aware of and what we can do to take charge of our own safety. Free reflective armbands handed out and a raffle for a high visibility umbrella. </span></div>
LOCATION:Conrad Sulzer Regional Library\, Community Meeting Room
UID:e.697.515
SEQUENCE:3
DTSTAMP:20260421T104741Z
URL:https://www.lincolnsquare.org/events/details/safe-routes-for-seniors-presentation-515
END:VEVENT

END:VCALENDAR
