BEGIN:VCALENDAR
VERSION:2.0
PRODID:-//ChamberMaster//Event Calendar 2.0//EN
METHOD:PUBLISH
X-PUBLISHED-TTL:P3D
REFRESH-INTERVAL:P3D
CALSCALE:GREGORIAN
BEGIN:VEVENT
DTSTART:20110810T230000Z
DTEND:20110811T003000Z
X-MICROSOFT-CDO-ALLDAYEVENT:FALSE
SUMMARY:Sales Tax Problem Workshop
DESCRIPTION:Wednesday\, August 10\, 2011\, 6:00PM   7:30PM - "Sales Tax Problem Workshop"\n\nAccounting Solutions\, 3035 West Montrose\, Chicago\n\n\n\nThis FREE workshop is being offered by Accounting Solutions Ltd. and presented by Chris Amundson\, President of the organization. It will cover sales tax preparation and documentation basics as well as solutions on surviving a sales tax audit. Whether you are a new or established business owner\, given the increases in sales tax auditing and the difficulties surrounding this issue\, our workshop will be of value. Complimentary Hors d'oeuvres\, Beer\, Wine\, and Soft Drinks will be provided. For more information or to register\, please call 773-267-7500 or email Chris@AccountingSolutionsLtd.com.
X-ALT-DESC;FMTTYPE=text/html:<strong>Wednesday\, August 10\, 2011\, 6:00PM &ndash\; 7:30PM - &ldquo\;Sales Tax Problem Workshop&rdquo\;</strong><br />\nAccounting Solutions\, 3035 West Montrose\, Chicago<br />\n<br />\nThis FREE workshop is being offered by Accounting Solutions Ltd. and presented by Chris Amundson\, President of the organization. It will cover sales tax preparation and documentation basics as well as solutions on surviving a sales tax audit. Whether you are a new or established business owner\, given the increases in sales tax auditing and the difficulties surrounding this issue\, our workshop will be of value. Complimentary Hors d&#39\;oeuvres\, Beer\, Wine\, and Soft Drinks will be provided. For more information or to register\, please call 773-267-7500 or email <a href="mailto:Chris@AccountingSolutionsLtd.com">Chris@AccountingSolutionsLtd.com</a>.
LOCATION:3035 W Montrose Ave
UID:e.697.1305
SEQUENCE:3
DTSTAMP:20260420T123914Z
URL:https://www.lincolnsquare.org/events/details/sales-payroll-income-tax-workshops-1305
END:VEVENT

END:VCALENDAR
