BEGIN:VCALENDAR
VERSION:2.0
PRODID:-//ChamberMaster//Event Calendar 2.0//EN
METHOD:PUBLISH
X-PUBLISHED-TTL:P3D
REFRESH-INTERVAL:P3D
CALSCALE:GREGORIAN
BEGIN:VEVENT
DTSTART:20120720T140000Z
DTEND:20120720T180000Z
X-MICROSOFT-CDO-ALLDAYEVENT:FALSE
SUMMARY:Satellite Office Dates for Tax Bill Assistance
DESCRIPTION:To make it easier for you to get help with your property tax bill issues\, the Alderman is operating more satellite offices in collaboration with the aldermanic offices in the 12th District.  \nAt these outreach events\, staff from the alderman's office will be available to review your tax bill and make sure you have all the exemptions you're entitled to. If you are found to be missing an exemption\, they will help you file the paperwork necessary to correct your bill.\n\n\n\nPlease bring your most recent property tax bill as well as valid state-issued id.\n\n\n\nIf you need to apply for he 2011 Long-Time Occupant Exemption or the 2011 Senior Freeze\, please bring your 2010 Federal 1040 Income Tax Form.
X-ALT-DESC;FMTTYPE=text/html:<p class="MsoNormal" style="text-align:justify">\n	<span style="font-size:14px\;"><span style="font-family: &quot\;Georgia&quot\;\,&quot\;serif&quot\;\;">To make it easier for you to get help with your property tax bill issues\, the Alderman is operating more satellite offices in collaboration with the aldermanic offices in the 12th District. &nbsp\;</span></span></p>\n<span style="font-size:14px\;"><span style="font-family: &quot\;Georgia&quot\;\,&quot\;serif&quot\;\;">At these outreach events\, staff from the alderman&#39\;s office will be available to review your tax bill and make sure you have all the exemptions you&#39\;re entitled to. <span style="font-family: &quot\;Georgia&quot\;\,&quot\;serif&quot\;\;">If you are found to be missing an exemption\, they will help you file the paperwork necessary to correct your bill.<br />\n<br />\nPlease bring your most recent property tax bill as well as valid state-issued id.<br />\n<br />\nIf you need to apply for he 2011 Long-Time Occupant Exemption or the 2011 Senior Freeze\, please bring your 2010 Federal 1040 Income Tax Form. </span></span></span>
LOCATION:Alderman Ameya Pawar's Service Office 4243 N. Lincoln Ave.
UID:e.697.3606
SEQUENCE:3
DTSTAMP:20260419T202547Z
URL:https://www.lincolnsquare.org/events/details/satellite-office-dates-for-tax-bill-assistance-3606
END:VEVENT

END:VCALENDAR
