BEGIN:VCALENDAR
VERSION:2.0
PRODID:-//ChamberMaster//Event Calendar 2.0//EN
METHOD:PUBLISH
X-PUBLISHED-TTL:P3D
REFRESH-INTERVAL:P3D
CALSCALE:GREGORIAN
BEGIN:VEVENT
DTSTART:20100508T003000Z
DTEND:20100508T023000Z
X-MICROSOFT-CDO-ALLDAYEVENT:FALSE
SUMMARY:Schnitzel Cooking Class
DESCRIPTION:Chef Christoph demonstrates the arts of schnitzel.\n\nClass fee includes\, tasting\, recipes\, history and one drink\n\n\n\nCooking classes the 1st Friday of the month\n\nClass size limited - reserve early\n\n\n\nALERT CLASS IS FULL FULL FULL
X-ALT-DESC;FMTTYPE=text/html:Chef Christoph demonstrates the arts of schnitzel.\n<br>Class fee includes\, tasting\, recipes\, history and one drink\n<br>\n<br>Cooking classes the 1st Friday of the month\n<br>Class size limited - reserve early\n<br>\n<br>ALERT CLASS IS FULL FULL FULL
LOCATION:
UID:e.697.513
SEQUENCE:3
DTSTAMP:20260421T123211Z
URL:https://www.lincolnsquare.org/events/details/schnitzel-cooking-class-513
END:VEVENT

END:VCALENDAR
