BEGIN:VCALENDAR
VERSION:2.0
PRODID:-//ChamberMaster//Event Calendar 2.0//EN
METHOD:PUBLISH
X-PUBLISHED-TTL:P3D
REFRESH-INTERVAL:P3D
CALSCALE:GREGORIAN
BEGIN:VEVENT
DTSTART;VALUE=DATE:20120725
DTEND;VALUE=DATE:20120901
TRANSP:TRANSPARENT
X-MICROSOFT-CDO-ALLDAYEVENT:TRUE
SUMMARY:School Supply Drive
DESCRIPTION:The Common Pantry and the Ravenswood Community Services are presenting a School Supply Drive - A collection for local families in need!\n\n\n\nSchool is right around the corner and many families cannot afford buying all the school supplies for their children.\n\n\n\nFor many Chicago Kids\, your help is much needed!\n\n\n\nThe Items needed are backpacks\, loose-leaf paper\, spirals\, glue sticks and tape\, colored pencils and crayons\, erasers and rulers\, pencil boxes and pouches\, hand sanitizer and kleenex\, scientific and pocket calculators\, pencil sharpeners and scissors\, USB drives and staplers\, 3-ring binders and index cards\, markers and highlighters.\n\n\n\nFrom July\, 25th through August 31st\, you can drop off your supplies at the 47th Ward Office at 4243 N. Lincoln Ave.
X-ALT-DESC;FMTTYPE=text/html:The <strong>Common Pantry</strong> and the <strong>Ravenswood Community Services</strong> are presenting a <strong>School Supply Drive</strong> - A collection for local families in need!<br />\n<br />\nSchool is right around the corner and many families cannot afford buying all the school supplies for their children.<br />\n<br />\nFor many Chicago Kids\, your help is much needed!<br />\n<br />\nThe Items needed are backpacks\, loose-leaf paper\, spirals\, glue sticks and tape\, colored pencils and crayons\, erasers and rulers\, pencil boxes and pouches\, hand sanitizer and kleenex\, scientific and pocket calculators\, pencil sharpeners and scissors\, USB drives and staplers\, 3-ring binders and index cards\, markers and highlighters.<br />\n<br />\nFrom <strong>July\, 25th through August 31st</strong>\, you can drop off your supplies at the 47th Ward Office at <strong>4243 N. Lincoln Ave.</strong> 
LOCATION:47th Ward Office @ 4243 N. Lincoln Ave.
UID:e.697.3613
SEQUENCE:3
DTSTAMP:20260420T184530Z
URL:https://www.lincolnsquare.org/events/details/school-supply-drive-3613
END:VEVENT

END:VCALENDAR
