BEGIN:VCALENDAR
VERSION:2.0
PRODID:-//ChamberMaster//Event Calendar 2.0//EN
METHOD:PUBLISH
X-PUBLISHED-TTL:P3D
REFRESH-INTERVAL:P3D
CALSCALE:GREGORIAN
BEGIN:VEVENT
DTSTART:20110729T000000Z
DTEND:20110729T020000Z
X-MICROSOFT-CDO-ALLDAYEVENT:FALSE
SUMMARY:Seedling Orchard Dinner & Concert w Alfonso Ponticelli
DESCRIPTION:Meinl's neighborhood dinner menu will feature dishes inspired by the freshest product from Seedling Orchard's July crop report on Thursday\, July 28th at 7:00 pm. Following dinner\, there will be live music by Chicago's favorite Alfonso Ponticelli. Reservations are required by calling 773.868.1876. Adults $40\, Children $20 (excludes tax and tip).
X-ALT-DESC;FMTTYPE=text/html:Meinl&#39\;s neighborhood dinner menu will feature dishes inspired by the freshest product from Seedling Orchard&#39\;s July crop report on Thursday\, July 28th at 7:00 pm. Following dinner\, there will be live music by Chicago&#39\;s favorite Alfonso Ponticelli. Reservations are required by calling 773.868.1876. Adults $40\, Children $20 (excludes tax and tip). 
LOCATION:Meinl on Lincoln 4363 N. Lincoln Avenue Chicago\, IL 60613
UID:e.697.1308
SEQUENCE:3
DTSTAMP:20260420T141607Z
URL:https://www.lincolnsquare.org/events/details/seedling-orchard-dinner-concert-w-alfonso-ponticelli-1308
END:VEVENT

END:VCALENDAR
