BEGIN:VCALENDAR
VERSION:2.0
PRODID:-//ChamberMaster//Event Calendar 2.0//EN
METHOD:PUBLISH
X-PUBLISHED-TTL:P3D
REFRESH-INTERVAL:P3D
CALSCALE:GREGORIAN
BEGIN:VEVENT
DTSTART:20120813T230000Z
DTEND:20120814T020000Z
X-MICROSOFT-CDO-ALLDAYEVENT:FALSE
SUMMARY:Shark Week 2012: FIN-RAISER
DESCRIPTION:Come kick off Shark Week at the Grafton (4530 N. Lincoln Ave.) and help us raise money for sharks! A portion of the evening's profits will go to Shark Angels\, an organization that works to save sharks and their habitats. Learn more about their efforts at sharkangels.org.\n\n\n\nThere will be a raffle\, shark-themed menu\, drink specials and kiddie cocktails for children!
X-ALT-DESC;FMTTYPE=text/html:<span style="font-size:12px\;">Come kick off Shark Week at the Grafton (4530 N. Lincoln Ave.) and help us raise money for sharks! A portion of the evening&rsquo\;s profits will go to Shark Angels\, an organization that works to save sharks and their habitats. Learn more about their efforts at sharkangels.org.</span><br />\n<br />\n<span style="font-size:16px\;"><strong>There will be a raffle\, shark-themed menu\, drink specials and kiddie cocktails for children!</strong></span><br />\n
LOCATION:The Grafton Irish Pub & Grill 4530 N. Lincoln Avenue
UID:e.697.3617
SEQUENCE:3
DTSTAMP:20260420T170459Z
URL:https://www.lincolnsquare.org/events/details/shark-week-2012-fin-raiser-3617
END:VEVENT

END:VCALENDAR
