BEGIN:VCALENDAR
VERSION:2.0
PRODID:-//ChamberMaster//Event Calendar 2.0//EN
METHOD:PUBLISH
X-PUBLISHED-TTL:P3D
REFRESH-INTERVAL:P3D
CALSCALE:GREGORIAN
BEGIN:VEVENT
DTSTART:20111029T003000Z
DTEND:20111029T030000Z
X-MICROSOFT-CDO-ALLDAYEVENT:FALSE
SUMMARY:Silent Scream Film Fest
DESCRIPTION:The DANK Haus German American Cultural Center presents SILENT SCREAM!  a double featuring of The Cabinet of Dr Caligari and Nosferatu: Symphony of Horror on Friday October 28 2011 at 7:30 pm in the gilt and terrazzo Marunde Ballroom.  Both 16 mm projection films will have live organ accompaniment by Dennis Scott.  \n\n	German expressionists of the 1920's founded the horror genre with these classics. The Cabinet of Dr Caligari  was made between the wars and birthed the horror genre.  Following is F.W. Murnau's unauthorized version of the Dracula story\, Nosferatu\, that set the standard for vampire movies for decades to come.  It features extensive location shooting in Wismar\, Rostock and L beck in the early days of the Weimar Republic.  \n\n	 \n\n	Entrance is only $7 and not for the faint of heart or of a tender age.\n\n	For your concession needs\, DANK has Nosferatu by Great lakes Brewing on tap and old fashioned popcorn and pretzels.\n\n	 \n\n	DANK Haus welcomes Dennis Scott\, who will be providing the "voice" to Silent Scream at the o.  Dennis is president of the Chicagoland Theatre Organ Society and serves as staff organist at Chicago's Music Box Theatre.  In addition\, he is a regular performer at the Silent Film Society of Chicago's Summer Film Festival\, and has played at festivals across the Midwest including the International Buster Keaton Convention.
X-ALT-DESC;FMTTYPE=text/html:<style type="text/css">\n<!--\n /* Style Definitions */\np.MsoNormal\, li.MsoNormal\, div.MsoNormal\n	{mso-style-parent:""\;\n	margin:0in\;\n	margin-bottom:.0001pt\;\n	mso-pagination:widow-orphan\;\n	font-size:12.0pt\;\n	font-family:"Times New Roman"\;\n	mso-fareast-font-family:"Times New Roman"\;\n	mso-bidi-font-family:"Times New Roman"\;}\n@page Section1\n	{size:8.5in 11.0in\;\n	margin:1.0in 1.25in 1.0in 1.25in\;\n	mso-header-margin:.5in\;\n	mso-footer-margin:.5in\;\n	mso-paper-source:0\;}\ndiv.Section1\n	{page:Section1\;}\n--></style>\n<p class="MsoNormal">\n	<span style="mso-bidi-font-size:14.0pt">&mdash\; The </span>DANK Haus German American Cultural Center presents SILENT SCREAM! <span style="mso-spacerun: yes">&nbsp\;</span>a double featuring of <i style="mso-bidi-font-style:normal">The Cabinet of Dr Caligari </i>and <i style="mso-bidi-font-style:normal">Nosferatu: Symphony of Horror</i> on <b style="mso-bidi-font-weight:normal">Friday October 28 2011 at 7:30 pm</b> in the gilt and terrazzo Marunde Ballroom.<span style="mso-spacerun: yes">&nbsp\; </span>Both 16 mm projection films will have live organ accompaniment by Dennis Scott.<span style="mso-spacerun: yes">&nbsp\; </span></p>\n<p class="MsoNormal">\n	German expressionists of the 1920&rsquo\;s founded the horror genre with these classics. <i style="mso-bidi-font-style:normal">The Cabinet of Dr Caligari<span style="mso-spacerun: yes">&nbsp\; </span></i>was made between the wars and birthed the horror genre.<span style="mso-spacerun: yes">&nbsp\; </span>Following is F.W. Murnau&rsquo\;s unauthorized version of the Dracula story\, <i style="mso-bidi-font-style:normal">Nosferatu</i>\, that set the standard for vampire movies for decades to come.<span style="mso-spacerun: yes">&nbsp\; </span>It features extensive location shooting in Wismar\, Rostock and L&uuml\;beck in the early days of the Weimar Republic.<span style="mso-spacerun: yes">&nbsp\; </span></p>\n<p class="MsoNormal">\n	&nbsp\;</p>\n<p class="MsoNormal">\n	Entrance is only $7 and not for the faint of heart or of a tender age.</p>\n<p class="MsoNormal">\n	For your concession needs\, DANK has Nosferatu by Great lakes Brewing on tap and old fashioned popcorn and pretzels.</p>\n<p class="MsoNormal">\n	&nbsp\;</p>\n<p class="MsoNormal">\n	DANK Haus welcomes Dennis Scott\, who will be providing the &ldquo\;voice&rdquo\; to Silent Scream at the o.<span style="mso-spacerun: yes">&nbsp\; </span>Dennis is president of the Chicagoland Theatre Organ Society and serves as staff organist at Chicago&rsquo\;s Music Box Theatre.<span style="mso-spacerun:\nyes">&nbsp\; </span>In addition\, he is a regular performer at the Silent Film Society of Chicago&rsquo\;s Summer Film Festival\, and has played at festivals across the Midwest including the International Buster Keaton Convention.<span style="mso-spacerun: yes">&nbsp\; </span></p>\n
LOCATION:4740 N. Western Ave. 5th Floor
UID:e.697.1913
SEQUENCE:3
DTSTAMP:20260420T094614Z
URL:https://www.lincolnsquare.org/events/details/silent-scream-film-fest-1913
END:VEVENT

END:VCALENDAR
