BEGIN:VCALENDAR
VERSION:2.0
PRODID:-//ChamberMaster//Event Calendar 2.0//EN
METHOD:PUBLISH
X-PUBLISHED-TTL:P3D
REFRESH-INTERVAL:P3D
CALSCALE:GREGORIAN
BEGIN:VEVENT
DTSTART:20111216T000000Z
DTEND:20111216T020000Z
X-MICROSOFT-CDO-ALLDAYEVENT:FALSE
SUMMARY:Sip & Shop
DESCRIPTION:Stroll through the businesses of Lincoln Square on Thursdays this December and warm up with a beverage and a treat while you shop.  Participating businesses throughout the neighborhood will be offering complimentary drinks and hors d'oeuvres to brighten up your holiday shopping experience.\n\n\n\nIn addition to the tasty treats\, businesses will offer specials\, discounts\, and promotions to help you check off those holiday gift giving lists.\n\n\n\nFor details and a list of participants visit www.lincolnsquare.org.
X-ALT-DESC;FMTTYPE=text/html:Stroll through the businesses of Lincoln Square on Thursdays this December and warm up with a beverage and a treat while you shop.&nbsp\; Participating businesses throughout the neighborhood will be offering complimentary drinks and hors d&#39\;oeuvres to brighten up your holiday shopping experience.<br />\n<br />\nIn addition to the tasty treats\, businesses will offer specials\, discounts\, and promotions to help you check off those holiday gift giving lists.<br />\n<br />\nFor details and a list of participants visit <a href="http://www.lincolnsquare.org">www.lincolnsquare.org</a>.
LOCATION:Participating businesses are concentrated along Lincoln\, Damen\, and Rockwell.
UID:e.697.2238
SEQUENCE:3
DTSTAMP:20260420T061159Z
URL:https://www.lincolnsquare.org/events/details/sip-shop-12-15-2011-2238
END:VEVENT

END:VCALENDAR
