BEGIN:VCALENDAR
VERSION:2.0
PRODID:-//ChamberMaster//Event Calendar 2.0//EN
METHOD:PUBLISH
X-PUBLISHED-TTL:P3D
REFRESH-INTERVAL:P3D
CALSCALE:GREGORIAN
BEGIN:VEVENT
DTSTART:20131021T000000Z
DTEND:20131021T013000Z
X-MICROSOFT-CDO-ALLDAYEVENT:FALSE
SUMMARY:Softies and Stinkers: A wine & cheese class at Provenance Food & Wine
DESCRIPTION:Sunday\, October 20th 2013 - 7:00 pm until 8:30 pm\n\n	We have a "soft spot" for runny\, creamy\, buttery & funky cheeses - and there's more than just Brie and Muenster out there! Join us for a carefully-curated selection of "soft and stinky" cheeses and our favorite wines to pair with them. We'll explain why our pairings work so well\, along with stories behind the styles & producers.\n\n	\n\n	Cost per class is $25 per person. Participants receive 15% off any purchases made that evening.\n\n	\n\n	Register here: http://tinyurl.com/softiesnstinkers
X-ALT-DESC;FMTTYPE=text/html:<p style="color: rgb(0\, 0\, 0)\; font-family: Verdana\, Helvetica\, sans-serif\;">\n	<b>Sunday\, October 20th 2013 - 7:00 pm until 8:30 pm</b></p>\n<p style="color: rgb(0\, 0\, 0)\; font-family: Verdana\, Helvetica\, sans-serif\;">\n	We have a &quot\;soft spot&quot\; for runny\, creamy\, buttery &amp\; funky cheeses - and there&#39\;s more than just Brie and Muenster out there! Join us for a carefully-curated selection of &quot\;soft and stinky&quot\; cheeses and our favorite wines to pair with them. We&#39\;ll explain why our pairings work so well\, along with stories behind the styles &amp\; producers.<br />\n	<br />\n	Cost per class is $25 per person. Participants receive 15% off any purchases made that evening.<br />\n	<br />\n	Register here:&nbsp\;<span style="font-size:11px\;"><b style="color: rgb(34\, 34\, 34)\; font-family: Arial\, Verdana\, sans-serif\;"><i><span style="font-family: Verdana\, sans-serif\;">http://tinyurl.com/softiesnstinkers &nbsp\;</span></i></b></span></p>\n<p class="BodyText21">\n	<i><span style="font-size:24.0pt"><o:p></o:p></span></i></p>\n
LOCATION:2312 West Leland Avenue
UID:e.697.5006
SEQUENCE:3
DTSTAMP:20260419T183639Z
URL:https://www.lincolnsquare.org/events/details/softies-and-stinkers-a-wine-cheese-class-at-provenance-food-wine-5006
END:VEVENT

END:VCALENDAR
