BEGIN:VCALENDAR
VERSION:2.0
PRODID:-//ChamberMaster//Event Calendar 2.0//EN
METHOD:PUBLISH
X-PUBLISHED-TTL:P3D
REFRESH-INTERVAL:P3D
CALSCALE:GREGORIAN
BEGIN:VEVENT
DTSTART;VALUE=DATE:20120719
DTEND;VALUE=DATE:20120812
TRANSP:TRANSPARENT
X-MICROSOFT-CDO-ALLDAYEVENT:TRUE
SUMMARY:SOUTH AMERICAN EXTRAORDINAIRE
DESCRIPTION:SO.AM.EXTRA.\n\nSOUTH AMERICAN EXTRAORDINAIRE\n\nA Special Viewing of works by South American Artists\n\n\n\n July 19 through August 11\n\nJuly 19: 3rd Thursday Event Reception 4-9 PM\n\nJuly 20: Friday Reception 6-9 PM
X-ALT-DESC;FMTTYPE=text/html:<span style="font-size:48px\;">SO.AM.EXTRA.</span><br />\n<strong><span style="font-size:18px\;">SOUTH AMERICAN EXTRAORDINAIRE</span></strong><br />\n<span style="font-size:16px\;"><span style="font-size:12px\;"><strong><em>A Special Viewing of works by South American Artists</em></strong></span></span><br />\n<br />\n<span style="font-size:14px\;"><span style="font-size:16px\;"> <strong>July 19 through August 11<br />\nJuly 19: 3rd Thursday Event Reception 4-9 PM<br />\nJuly 20: Friday Reception 6-9 PM</strong></span></span>
LOCATION:4757 N Lincoln Avenue
UID:e.697.3605
SEQUENCE:3
DTSTAMP:20260420T171005Z
URL:https://www.lincolnsquare.org/events/details/south-american-extraordinaire-3605
END:VEVENT

END:VCALENDAR
