BEGIN:VCALENDAR
VERSION:2.0
PRODID:-//ChamberMaster//Event Calendar 2.0//EN
METHOD:PUBLISH
X-PUBLISHED-TTL:P3D
REFRESH-INTERVAL:P3D
CALSCALE:GREGORIAN
BEGIN:VEVENT
DTSTART:20120822T233000Z
DTEND:20120823T020000Z
X-MICROSOFT-CDO-ALLDAYEVENT:FALSE
SUMMARY:Special Concert! Check with Lucy
DESCRIPTION:We're having a special added bonus this week of a Wednesday night concert! \n\n	 \n\n	. Since meeting at Chicago's famed Old Town School of Folk Music a decade ago\, these prolific songwriters have been performing together in various bands and incarnations\, from neighborhood busking to large theatre venues\, all over the Midwest. With roots in pop\, folk\, soul and Americana\, Check With Lucy creates an infectious up-tempo new folk sound.\n\n	\n\n	The backbone of the project is the duo's catchy and poignant songwriting. With hints of James Taylor\, Jeff Tweedy\, Jackson Browne and John Hiatt\,
X-ALT-DESC;FMTTYPE=text/html:<p>\n	We&#39\;re having a special added bonus this week of a Wednesday night concert!&nbsp\;<br />\n	&nbsp\;</p>\n<div class="text_exposed_root text_exposed" id="id_502aa11394faa9496844478">\n	. Since meeting at Chicago&#39\;s famed Old Town School of Folk Music a decade ago\, these prolific songwriters have been performing together in various bands and incarnations\, from neighborhood busking to large theatre venues\, all over the Midwest. With roots in pop\, folk\, soul and Americana\, Check With Lucy creates&nbsp\;an infectious up-tempo new folk sound.<br />\n	<br />\n	The backbone of the project is the duo&#39\;s catchy and poignant songwriting. With hints of James Taylor\, Jeff Tweedy\, Jackson Browne and John Hiatt\,<br />\n	&nbsp\;</div>\n
LOCATION:Giddings Plaza 4731 N. Lincoln Ave. Chicago\, IL
UID:e.697.3622
SEQUENCE:3
DTSTAMP:20260420T170756Z
URL:https://www.lincolnsquare.org/events/details/special-concert-check-with-lucy-3622
END:VEVENT

END:VCALENDAR
