BEGIN:VCALENDAR
VERSION:2.0
PRODID:-//ChamberMaster//Event Calendar 2.0//EN
METHOD:PUBLISH
X-PUBLISHED-TTL:P3D
REFRESH-INTERVAL:P3D
CALSCALE:GREGORIAN
BEGIN:VEVENT
DTSTART:20111118T013000Z
DTEND:20111118T033000Z
X-MICROSOFT-CDO-ALLDAYEVENT:FALSE
SUMMARY:SPIRITS AND SPARKLERS!
DESCRIPTION:Annual Spirits and Sparkling wine tasting with many Champagnes\, Proseccos\, Cavas\, Whiskeys\, Cognacs\, dessert wines of all kinds and so much more.\n\n\n\n$40 in advance or $45 at the door. Call the store at 773-989-8166 for reservations and details.\n\n\n\nSee you there!
X-ALT-DESC;FMTTYPE=text/html:Annual Spirits and Sparkling wine tasting with many Champagnes\, Proseccos\, Cavas\, Whiskeys\, Cognacs\, dessert wines of all kinds and so much more.<br />\n<br />\n$40 in advance or $45 at the door. Call the store at 773-989-8166 for reservations and details.<br />\n<br />\nSee you there!
LOCATION:Fine Wine Brokers\, Inc. 4621 N Lincoln Ave Chicago\, IL 60625
UID:e.697.2208
SEQUENCE:3
DTSTAMP:20260420T081934Z
URL:https://www.lincolnsquare.org/events/details/spirits-and-sparklers-2208
END:VEVENT

END:VCALENDAR
