BEGIN:VCALENDAR
VERSION:2.0
PRODID:-//ChamberMaster//Event Calendar 2.0//EN
METHOD:PUBLISH
X-PUBLISHED-TTL:P3D
REFRESH-INTERVAL:P3D
CALSCALE:GREGORIAN
BEGIN:VEVENT
DTSTART:20100814T003000Z
DTEND:20100814T030000Z
X-MICROSOFT-CDO-ALLDAYEVENT:FALSE
SUMMARY:SportsClub DANK
DESCRIPTION:Get your game on with us in table tennis\, foosball or bags\, while the REAL Fussball plays on the big screen. We'll have pretzels (2$) and landjager (3$) on hand for a boost of spirits and confidence.
X-ALT-DESC;FMTTYPE=text/html:Get your game on with us in table tennis\, foosball or bags\, while the REAL Fussball plays on the big screen. We'll have pretzels (2$) and landjager (3$) on hand for a boost of spirits and confidence.
LOCATION:
UID:e.697.586
SEQUENCE:3
DTSTAMP:20260421T094529Z
URL:https://www.lincolnsquare.org/events/details/sportsclub-dank-586
END:VEVENT

END:VCALENDAR
