BEGIN:VCALENDAR
VERSION:2.0
PRODID:-//ChamberMaster//Event Calendar 2.0//EN
METHOD:PUBLISH
X-PUBLISHED-TTL:P3D
REFRESH-INTERVAL:P3D
CALSCALE:GREGORIAN
BEGIN:VEVENT
DTSTART:20101211T013000Z
DTEND:20101211T040000Z
X-MICROSOFT-CDO-ALLDAYEVENT:FALSE
SUMMARY:SportsClub DANK
DESCRIPTION:Get your game on with us in table tennis\, foosball or bags\, while the REAL Fussball plays on the big screen. We'll have pretzels ($2) and landjager ($3) on hand for a boost of spirits and confidence.
X-ALT-DESC;FMTTYPE=text/html:Get your game on with us in table tennis\, foosball or bags\, while the REAL Fussball plays on the big screen. We'll have pretzels ($2) and landjager ($3) on hand for a boost of spirits and confidence.
LOCATION:
UID:e.697.605
SEQUENCE:3
DTSTAMP:20260421T015955Z
URL:https://www.lincolnsquare.org/events/details/sportsclub-dank-605
END:VEVENT

END:VCALENDAR
