BEGIN:VCALENDAR
VERSION:2.0
PRODID:-//ChamberMaster//Event Calendar 2.0//EN
METHOD:PUBLISH
X-PUBLISHED-TTL:P3D
REFRESH-INTERVAL:P3D
CALSCALE:GREGORIAN
BEGIN:VEVENT
DTSTART:20120310T180000Z
DTEND:20120310T220000Z
X-MICROSOFT-CDO-ALLDAYEVENT:FALSE
SUMMARY:Spring Open House at Lillstreet
DESCRIPTION:Make the most of a mid-March Saturday and come take FREE art workshops with us! Most demonstrations and workshops are between 1-2 hours and you get to bring your own creations home. Tour the building to see our classrooms\, galleries\, shop\, and studios!
X-ALT-DESC;FMTTYPE=text/html:Make the most of a mid-March Saturday and come take FREE art workshops with us! Most demonstrations and workshops are between 1-2 hours and you get to bring your own creations home. Tour the building to see our classrooms\, galleries\, shop\, and studios!
LOCATION:Lillstreet Art Center 4401 N Ravenswood Chicago\, IL 60640
UID:e.697.2481
SEQUENCE:3
DTSTAMP:20260420T032147Z
URL:https://www.lincolnsquare.org/events/details/spring-open-house-at-lillstreet-2481
END:VEVENT

END:VCALENDAR
