BEGIN:VCALENDAR
VERSION:2.0
PRODID:-//ChamberMaster//Event Calendar 2.0//EN
METHOD:PUBLISH
X-PUBLISHED-TTL:P3D
REFRESH-INTERVAL:P3D
CALSCALE:GREGORIAN
BEGIN:VEVENT
DTSTART:20110527T000000Z
DTEND:20110527T020000Z
X-MICROSOFT-CDO-ALLDAYEVENT:FALSE
SUMMARY:Square Kegs Home Brew Club Meet-Up
DESCRIPTION:Save the Date!\n\n\n\nJoin the Lincoln Square Chamber of Commerce Square Kegs Home Brew Club for its monthly meeting on Thursday\, May 26\, 2011 at The Grafton.  During this meeting we will discuss the future direction of the club\, potential upcoming events\, and more!\n\n\n\nDon't miss out!  RSVP today!
X-ALT-DESC;FMTTYPE=text/html:<br />\n<strong>Save the Date!</strong><br />\n<br />\nJoin the Lincoln Square Chamber of Commerce Square Kegs Home Brew Club for its monthly meeting on Thursday\, May 26\, 2011 at The Grafton.&nbsp\; During this meeting we will discuss the future direction of the club\, potential upcoming events\, and more!<br />\n<br />\nDon&#39\;t miss out!&nbsp\; RSVP today!
LOCATION:The Grafton 4530 N. Lincoln Avenue
UID:e.697.867
SEQUENCE:3
DTSTAMP:20260420T174817Z
URL:https://www.lincolnsquare.org/events/details/square-kegs-home-brewer-meet-up-867
END:VEVENT

END:VCALENDAR
