BEGIN:VCALENDAR
VERSION:2.0
PRODID:-//ChamberMaster//Event Calendar 2.0//EN
METHOD:PUBLISH
X-PUBLISHED-TTL:P3D
REFRESH-INTERVAL:P3D
CALSCALE:GREGORIAN
BEGIN:VEVENT
DTSTART:20110410T130000Z
DTEND:20110410T183000Z
X-MICROSOFT-CDO-ALLDAYEVENT:FALSE
SUMMARY:St. Matthias Pancake Breakfast
DESCRIPTION:Enjoy a home made breakfast courtesy of St. Matthias Parent's Club (PILLARS).  Included are unlimited pancakes\, scrambled eggs\, two link sausages\, milk\, coffee and one glass of orange juice. Free\, off-street parking available.
X-ALT-DESC;FMTTYPE=text/html:Enjoy a home made breakfast courtesy of St. Matthias Parent's Club (PILLARS).  Included are unlimited pancakes\, scrambled eggs\, two link sausages\, milk\, coffee and one glass of orange juice. Free\, off-street parking available.
LOCATION:St. Matthias Hall 4910 N. Claremont Ave. Chicago\, IL 60625
UID:e.697.851
SEQUENCE:3
DTSTAMP:20260420T193643Z
URL:https://www.lincolnsquare.org/events/details/st-matthias-pancake-breakfast-851
END:VEVENT

END:VCALENDAR
