BEGIN:VCALENDAR
VERSION:2.0
PRODID:-//ChamberMaster//Event Calendar 2.0//EN
METHOD:PUBLISH
X-PUBLISHED-TTL:P3D
REFRESH-INTERVAL:P3D
CALSCALE:GREGORIAN
BEGIN:VEVENT
DTSTART:20110312T140000Z
DTEND:20110313T080000Z
X-MICROSOFT-CDO-ALLDAYEVENT:FALSE
SUMMARY:St Patrick's Day - Parade party @ The Atlantic
DESCRIPTION:It's Paddy's Day Again!! Thank God\, Winter must be nearly over!! Come to the Atlantic to celebrate. We're open @ 8am. Grab a few before the parade\, or just get your spot and stay all day! Irish music and dancers throughout the day. Serving Irish fare\; Corned Beef and Cabbage\, Shepards Pie\, Fish n' Chips. Plenty of green bling for everyone \;) We can do it all over again on March 17th ( St. Patrick's Day this is!!)
X-ALT-DESC;FMTTYPE=text/html:It's Paddy's Day Again!! Thank God\, Winter must be nearly over!! Come to the Atlantic to celebrate. We're open @ 8am. Grab a few before the parade\, or just get your spot and stay all day! Irish music and dancers throughout the day. Serving Irish fare\; Corned Beef and Cabbage\, Shepards Pie\, Fish n' Chips. Plenty of green bling for everyone \;) We can do it all over again on March 17th ( St. Patrick's Day this is!!) \n<br> \n<br> \n<br>
LOCATION:The Atlantic Bar and Grill
UID:e.697.781
SEQUENCE:3
DTSTAMP:20260420T205257Z
URL:https://www.lincolnsquare.org/events/details/st-patrick-s-day-parade-party-the-atlantic-781
END:VEVENT

END:VCALENDAR
