BEGIN:VCALENDAR
VERSION:2.0
PRODID:-//ChamberMaster//Event Calendar 2.0//EN
METHOD:PUBLISH
X-PUBLISHED-TTL:P3D
REFRESH-INTERVAL:P3D
CALSCALE:GREGORIAN
BEGIN:VEVENT
DTSTART:20111029T160000Z
DTEND:20111029T163000Z
X-MICROSOFT-CDO-ALLDAYEVENT:FALSE
SUMMARY:Halloween Story Time with The Book Cellar
DESCRIPTION:Join The Book Cellar for a speical Halloween Story Time during Lincoln Square's Halloween Happenings!\n\n	\n\n	Story Time will take place in Giddings plaza\, weather permitting.\n\n	\n\n	Be sure to come out in costume!
X-ALT-DESC;FMTTYPE=text/html:<p style="text-align: center">\n	<br />\n	Join&nbsp\;The Book Cellar&nbsp\;for a speical Halloween&nbsp\;Story Time during Lincoln Square&#39\;s Halloween Happenings!<br />\n	<br />\n	Story Time will take place in Giddings plaza\, weather permitting.<br />\n	<br />\n	Be sure to come out in costume!&nbsp\;</p>\n
LOCATION:Story time will be in Giddings Plaza *weather permitting/otherwise it will be in The Book Cellar
UID:e.697.2159
SEQUENCE:3
DTSTAMP:20260420T094430Z
URL:https://www.lincolnsquare.org/events/details/story-time-with-the-book-cellar-2159
END:VEVENT

END:VCALENDAR
