BEGIN:VCALENDAR
VERSION:2.0
PRODID:-//ChamberMaster//Event Calendar 2.0//EN
METHOD:PUBLISH
X-PUBLISHED-TTL:P3D
REFRESH-INTERVAL:P3D
CALSCALE:GREGORIAN
BEGIN:VEVENT
DTSTART:20100630T000000Z
DTEND:20100630T010000Z
X-MICROSOFT-CDO-ALLDAYEVENT:FALSE
SUMMARY:Stress Management Strategies
DESCRIPTION:Jennifer A. Salas and Abbie Cronin\, present:\n\nStress Management Strategies \n\nRavenswood Chiropractic & Wellness Center presents Special Guest Speakers Jennifer A. Salas and Abbie Cronin\, Licensed Clinical Professional Counselors\, who have been sharing the latest strategies in stress management  for years.  Join us for this free workshop!\n\nDate: Tuesday: June 29nd 2010\n\nTime: 7:00 P.M.\n\nPlace: Ravenswood Chiropractic & Wellness Center\n\n            5215 North Ravenswood\, Suite 105\n\n            Chicago\, IL 60640\n\n            www.RennWellness.com\n\n            (773) 878-7330\n\nBenefit from Jennifer Salas and Abbie Cronin?s comprehensive research and experience\n\nIf you?re like most people these days you deal with mounting stress levels on a daily basis and you may be feeling the effects.  Are you curious to see if your health problems are actually caused by stress? Do you want to learn stress management strategies you can walk out the door implementing?  Jennifer Salas and Abbie Cronin will strip away the hype and teach you how you can safely and effectively reduce stress levels to regain control and enjoy each day.    \n\nAt this workshop you?ll have an opportunity to calculate your level of stress\, practice a stress management technique and ask questions of these stress management experts.\n\nIf you haven?t already done so\, please make your reservation now.  Seating is limited.\n\nRegister on our website in the Events Section: www.RennWellness.com or\n\nCall Nadia Hare at (773) 878-7330
X-ALT-DESC;FMTTYPE=text/html:Jennifer A. Salas and Abbie Cronin\, present:\n<br>Stress Management Strategies \n<br>Ravenswood Chiropractic &amp\; Wellness Center presents Special Guest Speakers Jennifer A. Salas and Abbie Cronin\, Licensed Clinical Professional Counselors\, who have been sharing the latest strategies in stress management  for years.  Join us for this free workshop!\n<br>Date: Tuesday: June 29nd 2010\n<br>Time: 7:00 P.M.\n<br>Place: Ravenswood Chiropractic &amp\; Wellness Center\n<br>            5215 North Ravenswood\, Suite 105\n<br>            Chicago\, IL 60640\n<br>            www.RennWellness.com\n<br>            (773) 878-7330\n<br>Benefit from Jennifer Salas and Abbie Cronin?s comprehensive research and experience\n<br>If you?re like most people these days you deal with mounting stress levels on a daily basis and you may be feeling the effects.  Are you curious to see if your health problems are actually caused by stress? Do you want to learn stress management strategies you can walk out the door implementing?  Jennifer Salas and Abbie Cronin will strip away the hype and teach you how you can safely and effectively reduce stress levels to regain control and enjoy each day.    \n<br>At this workshop you?ll have an opportunity to calculate your level of stress\, practice a stress management technique and ask questions of these stress management experts.\n<br>If you haven?t already done so\, please make your reservation now.  Seating is limited.\n<br>Register on our website in the Events Section: www.RennWellness.com or\n<br>Call Nadia Hare at (773) 878-7330\n<br>
LOCATION:Ravenswood Chiropractic & Wellness Center 5215 North Ravenswood\, Suite 105 Chicago\, IL 60640
UID:e.697.549
SEQUENCE:3
DTSTAMP:20260421T104733Z
URL:https://www.lincolnsquare.org/events/details/stress-management-strategies-549
END:VEVENT

END:VCALENDAR
