BEGIN:VCALENDAR
VERSION:2.0
PRODID:-//ChamberMaster//Event Calendar 2.0//EN
METHOD:PUBLISH
X-PUBLISHED-TTL:P3D
REFRESH-INTERVAL:P3D
CALSCALE:GREGORIAN
BEGIN:VEVENT
DTSTART:20110818T233000Z
DTEND:20110819T020000Z
X-MICROSOFT-CDO-ALLDAYEVENT:FALSE
SUMMARY:Summer Concert Series
DESCRIPTION:Come listen to some Rockabilly music as the Possum Hollow Boys are performing!
X-ALT-DESC;FMTTYPE=text/html:Come listen to some&nbsp\;Rockabilly music as the Possum Hollow Boys are performing! &nbsp\;
LOCATION:Giddings Plaza at N. Lincoln and W. Giddings (across from the Chicago Brauhaus)
UID:e.697.894
SEQUENCE:3
DTSTAMP:20260420T123731Z
URL:https://www.lincolnsquare.org/events/details/summer-concert-series-08-18-2011-894
END:VEVENT

END:VCALENDAR
