BEGIN:VCALENDAR
VERSION:2.0
PRODID:-//ChamberMaster//Event Calendar 2.0//EN
METHOD:PUBLISH
X-PUBLISHED-TTL:P3D
REFRESH-INTERVAL:P3D
CALSCALE:GREGORIAN
BEGIN:VEVENT
DTSTART:20110616T233000Z
DTEND:20110617T020000Z
X-MICROSOFT-CDO-ALLDAYEVENT:FALSE
SUMMARY:Summer Concert Series
DESCRIPTION:Come listen to the Pokaholics\, a Chicago band that plays a high-speed collision of polka and rock 'n roll!
X-ALT-DESC;FMTTYPE=text/html:Come listen to the Pokaholics\, a Chicago band that plays a high-speed collision of polka and rock &#39\;n roll!<br />
LOCATION:Giddings Plaza @ N. Lincoln and W. Giddings (across from the Chicago Brauhaus)
UID:e.697.885
SEQUENCE:3
DTSTAMP:20260420T155253Z
URL:https://www.lincolnsquare.org/events/details/summer-concert-series-885
END:VEVENT

END:VCALENDAR
