BEGIN:VCALENDAR
VERSION:2.0
PRODID:-//ChamberMaster//Event Calendar 2.0//EN
METHOD:PUBLISH
X-PUBLISHED-TTL:P3D
REFRESH-INTERVAL:P3D
CALSCALE:GREGORIAN
BEGIN:VEVENT
DTSTART:20120809T233000Z
DTEND:20120810T020000Z
X-MICROSOFT-CDO-ALLDAYEVENT:FALSE
SUMMARY:Summer Concert Series - Luxembourg Fun Brass Band
DESCRIPTION:The annual Summer Concert Series\, Lincoln Square's favorite free summer event! Be sure to tell your entire family and all of your friends! No one is going to want to miss out on this great\, fun event!\n\n\n\nIn case of rain or severe weather please check our website for up-to-date information on\n\nperformances.\n\n\n\n**The Luxembourg Fun Brass Band will play inside the Chicago Brauhaus tonight 8/9/12 due to inclement weather.  Please come out and here this fantastic band!\n\n\n\nThis week's band: Luxembourg Fun Brass Band\n\n\n\nAuthentic Luxembourg-Music right here in Lincoln Square!
X-ALT-DESC;FMTTYPE=text/html:The annual Summer Concert Series\, Lincoln Square&#39\;s favorite free summer event! Be sure to tell your entire family and all of your friends! No one is going to want to miss out on this great\, fun event!<br />\n<br />\n<em><span style="font-family: calibri\,sans-serif">In case of rain or severe weather please check our website for up-to-date information on<br />\nperformances.</span></em><br />\n<br />\n<strong><span style="color: #ff0000">**The Luxembourg Fun Brass Band will play inside the Chicago Brauhaus tonight 8/9/12 due to inclement weather.&nbsp\; Please come out and here this fantastic band!</span><br />\n<br />\nThis week&#39\;s band: Luxembourg Fun Brass Band</strong><br />\n<br />\nAuthentic Luxembourg-Music right here in Lincoln Square!<br />\n<br />\n
LOCATION:Giddings Plaza @ N. Lincoln and W. Giddings (across from the Chicago Brauhaus)
UID:e.697.3554
SEQUENCE:3
DTSTAMP:20260420T170959Z
URL:https://www.lincolnsquare.org/events/details/summer-concert-series-check-with-lucy-3554
END:VEVENT

END:VCALENDAR
