BEGIN:VCALENDAR
VERSION:2.0
PRODID:-//ChamberMaster//Event Calendar 2.0//EN
METHOD:PUBLISH
X-PUBLISHED-TTL:P3D
REFRESH-INTERVAL:P3D
CALSCALE:GREGORIAN
BEGIN:VEVENT
DTSTART:20120712T233000Z
DTEND:20120713T020000Z
X-MICROSOFT-CDO-ALLDAYEVENT:FALSE
SUMMARY:Summer Concert Series - Doko Benjo
DESCRIPTION:The annual Summer Concert Series\, Lincoln Square's favorite free summer event! Be sure to tell your entire family and all of your friends! No one is going to want to miss out on this great\, fun event!\n\n\n\nIn case of rain or severe weather please check our website for up-to-date information on performances.\n\n\n\nThis week's band: Doko Benjo\n\n\n\nThe band has played at venues across Chicago including the House of Blues\, The Metro\, Double Door and at festivals across the city. With their funk\, soul and pop inspired music\, it is hard not to want to break out into your version of a funk inspired dance. With a mix of guitar\, drums\, bass\, sax\, trumpet and vocals their sound is very fun and summery which is very appropriate for the venue.
X-ALT-DESC;FMTTYPE=text/html:The annual Summer Concert Series\, Lincoln Square&#39\;s favorite free summer event! Be sure to tell your entire family and all of your friends! No one is going to want to miss out on this great\, fun event!<br />\n<br />\n<em><span style="font-family:calibri\,sans-serif\;">In case of rain or severe weather please check our website for up-to-date information on performances.</span></em><br />\n<br />\n<strong>This week&#39\;s band: Doko Benjo</strong><br />\n<br />\nThe band has played at venues across Chicago including the House of Blues\, The Metro\, Double Door and at festivals across the city. With their funk\, soul and pop inspired music\, it is hard not to want to break out into your version of a funk inspired dance. With a mix of guitar\, drums\, bass\, sax\, trumpet and vocals their sound is very fun and summery which is very appropriate for the venue.<br />\n<br />\n
LOCATION:Giddings Plaza @ N. Lincoln and W. Giddings (across from the Chicago Brauhaus)
UID:e.697.3551
SEQUENCE:3
DTSTAMP:20260419T203451Z
URL:https://www.lincolnsquare.org/events/details/summer-concert-series-doko-benjo-3551
END:VEVENT

END:VCALENDAR
