BEGIN:VCALENDAR
VERSION:2.0
PRODID:-//ChamberMaster//Event Calendar 2.0//EN
METHOD:PUBLISH
X-PUBLISHED-TTL:P3D
REFRESH-INTERVAL:P3D
CALSCALE:GREGORIAN
BEGIN:VEVENT
DTSTART:20120816T233000Z
DTEND:20120817T020000Z
X-MICROSOFT-CDO-ALLDAYEVENT:FALSE
SUMMARY:Summer Concert Series - Juke Box Heroes
DESCRIPTION:The annual Summer Concert Series\, Lincoln Square's favorite free summer event! Be sure to tell your entire family and all of your friends! No one is going to want to miss out on this great\, fun event!\n\n\n\nIn case of rain or severe weather please check our website for up-to-date information on performances.\n\n\n\nThis week's band: Juke Box Heroes\n\n\n\nThe Jukebox Heroes are always ready and willing to provide a good time with their eclectic play list of over 350 songs from the 50's to today there is  guaranteed to be something for everyone to enjoy.  So sing a long\, dance or just sit back and relax as The Jukebox Heroes put their spin on the classic music we all love!
X-ALT-DESC;FMTTYPE=text/html:The annual Summer Concert Series\, Lincoln Square&#39\;s favorite free summer event! Be sure to tell your entire family and all of your friends! No one is going to want to miss out on this great\, fun event!<br />\n<br />\n<em><span style="font-family:calibri\,sans-serif\;">In case of rain or severe weather please check our website for up-to-date information on performances.</span></em><br />\n<br />\n<strong>This week&#39\;s band: Juke Box Heroes</strong><br />\n<br />\nThe Jukebox Heroes are always ready and willing to provide a good time with their eclectic play list of over 350 songs from the 50&#39\;s to today there is&nbsp\; guaranteed to be something for everyone to enjoy.&nbsp\; So sing a long\, dance or just sit back and relax as The Jukebox Heroes put their spin on the classic music we all love!<br />\n<br />\n
LOCATION:Giddings Plaza @ N. Lincoln and W. Giddings (across from the Chicago Brauhaus)
UID:e.697.3555
SEQUENCE:3
DTSTAMP:20260420T171132Z
URL:https://www.lincolnsquare.org/events/details/summer-concert-series-juke-box-heroes-3555
END:VEVENT

END:VCALENDAR
