BEGIN:VCALENDAR
VERSION:2.0
PRODID:-//ChamberMaster//Event Calendar 2.0//EN
METHOD:PUBLISH
X-PUBLISHED-TTL:P3D
REFRESH-INTERVAL:P3D
CALSCALE:GREGORIAN
BEGIN:VEVENT
DTSTART:20120621T233000Z
DTEND:20120622T020000Z
X-MICROSOFT-CDO-ALLDAYEVENT:FALSE
SUMMARY:Summer Concert Series - Old Californio
DESCRIPTION:The annual Summer Concert Series\, Lincoln Square's favorite free summer event! Be sure to tell your entire family and all of your friends! No one is going to want to miss out on this great\, fun event!\n\n\n\nIn case of rain or severe weather please check our website for up-to-date information on performances.\n\n\n\nThis week's band: Old Californio\n\n\n\nOld Californio is a band that defies generic musical labels. Indeed\, with Sundrunk Angels the Pasadena\, California band has meticulously crafted a melodic and hard driving album with spiffed-up lyrics and dazzling art-pop beats that will be surprisingly appealing to Americana\, folk and country music audiences while also finding fans in other genres as well.
X-ALT-DESC;FMTTYPE=text/html:The annual Summer Concert Series\, Lincoln Square&#39\;s favorite free summer event! Be sure to tell your entire family and all of your friends! No one is going to want to miss out on this great\, fun event!<br />\n<br />\n<em><span style="font-family:calibri\,sans-serif\;">In case of rain or severe weather please check our website for up-to-date information on performances.</span></em><br />\n<br />\n<strong>This week&#39\;s band: Old Californio</strong><br />\n<br />\n<font class="size10 Helvetica10" face="Helvetica\, Arial\, sans-serif">Old Californio is a band that defies generic musical labels. Indeed\, with </font><font class="size10 Helvetica10" face="Helvetica\, Arial\, sans-serif"><i>Sundrunk Angels</i></font><font class="size10 Helvetica10" face="Helvetica\, Arial\, sans-serif"> the Pasadena\, California band has meticulously crafted a melodic and hard driving album with spiffed-up lyrics and dazzling art-pop beats that will be surprisingly appealing to Americana\, folk and country music audiences while also finding fans in other genres as well</font>.<br />\n
LOCATION:Giddings Plaza @ N. Lincoln and W. Giddings (across from the Chicago Brauhaus)
UID:e.697.3549
SEQUENCE:3
DTSTAMP:20260419T222033Z
URL:https://www.lincolnsquare.org/events/details/summer-concert-series-old-californio-3549
END:VEVENT

END:VCALENDAR
