BEGIN:VCALENDAR
VERSION:2.0
PRODID:-//ChamberMaster//Event Calendar 2.0//EN
METHOD:PUBLISH
X-PUBLISHED-TTL:P3D
REFRESH-INTERVAL:P3D
CALSCALE:GREGORIAN
BEGIN:VEVENT
DTSTART:20120802T233000Z
DTEND:20120803T020000Z
X-MICROSOFT-CDO-ALLDAYEVENT:FALSE
SUMMARY:Summer Concert Series - The Flat Cats
DESCRIPTION:The annual Summer Concert Series\, Lincoln Square's favorite free summer event! Be sure to tell your entire family and all of your friends! No one is going to want to miss out on this great\, fun event!\n\n\n\nIn case of rain or severe weather please check our website for up-to-date information on performances.\n\n\n\nThis week's band: The Flat Cats\n\n\n\nThe Flat Cats play a range of vintage and modern music rooted in the hottest swinging jazz and blues\, contemporary classics\, and timeless standards.
X-ALT-DESC;FMTTYPE=text/html:The annual Summer Concert Series\, Lincoln Square&#39\;s favorite free summer event! Be sure to tell your entire family and all of your friends! No one is going to want to miss out on this great\, fun event!<br />\n<br />\n<em><span style="font-family:calibri\,sans-serif\;">In case of rain or severe weather please check our website for up-to-date information on performances.</span></em><br />\n<br />\n<strong>This week&#39\;s band: The Flat Cats</strong><br />\n<br />\nThe Flat Cats play a range of vintage and modern music rooted in the hottest swinging jazz and blues\, contemporary classics\, and timeless standards.<br />\n
LOCATION:Giddings Plaza @ N. Lincoln and W. Giddings (across from the Chicago Brauhaus)
UID:e.697.3553
SEQUENCE:3
DTSTAMP:20260420T171006Z
URL:https://www.lincolnsquare.org/events/details/summer-concert-series-the-flat-cats-3553
END:VEVENT

END:VCALENDAR
