BEGIN:VCALENDAR
VERSION:2.0
PRODID:-//ChamberMaster//Event Calendar 2.0//EN
METHOD:PUBLISH
X-PUBLISHED-TTL:P3D
REFRESH-INTERVAL:P3D
CALSCALE:GREGORIAN
BEGIN:VEVENT
DTSTART:20120519T170000Z
DTEND:20120519T210000Z
X-MICROSOFT-CDO-ALLDAYEVENT:FALSE
SUMMARY:Summer Open House at Lillstreet Art Center
DESCRIPTION:Celebrate the summer with Lillstreet Art Center! Enjoy FREE workshops and demonstrations for the whole family. Take something home that's handmade by YOU in 1-2 hours.\n\n\n\nAlso\, Enter To WIN a Lillstreet art party or teambuilding experience for 8 adults or co-workers! Lillstreet is launching a new Group Outings Program\, learn more here\, and drop off your business card to enter and WIN during the summer open house or click the link below to enter online!\n\n\n\nwww.lillstreet.com/group-outings-contest\n\n\n\n\n\nMAY 19\, 12-4PM\n\n\n\nSCHEDULE OF EVENTS\n\n\n\nKids' Activities: 12-4pm\n\n\n\nIntroduction to Drawing Workshop: 12-1pm\n\n\n\nGlass Flameworking Workshop: 1-3pm\n\n\n\nHammered Bracelets: 1:30-2:30pm\n\n\n\nWheelthrowing Workshop: 2-4pm\n\n\n\nWheelthrowing Big Demo: 2-4pm\n\n\n\nHandbuilding Clay Slab Vases: 2-4pm\n\n\n\nScreenprinting T-Shirts Workshop(bring your own or purchase from sales locker): 2-4pm\n\n\n\nBand Rings: 3-4pm
X-ALT-DESC;FMTTYPE=text/html:Celebrate the summer with Lillstreet Art Center! Enjoy FREE workshops and demonstrations for the whole family. Take something home that&#39\;s handmade by YOU in 1-2 hours.<br />\n<br />\nAlso\, Enter To WIN a Lillstreet art party or teambuilding experience for 8 adults or co-workers! Lillstreet is launching a new Group Outings Program\, learn more here\, and drop off your business card to enter and WIN during the summer open house or click the link below to enter online!<br />\n<br />\nwww.lillstreet.com/group-outings-contest<br />\n<br />\n<br />\nMAY 19\, 12-4PM<br />\n<br />\nSCHEDULE OF EVENTS<br />\n<br />\nKids&#39\; Activities: 12-4pm<br />\n<br />\nIntroduction to Drawing Workshop: 12-1pm<br />\n<br />\nGlass Flameworking Workshop: 1-3pm<br />\n<br />\nHammered Bracelets: 1:30-2:30pm<br />\n<br />\nWheelthrowing Workshop: 2-4pm<br />\n<br />\nWheelthrowing Big Demo: 2-4pm<br />\n<br />\nHandbuilding Clay Slab Vases: 2-4pm<br />\n<br />\nScreenprinting T-Shirts Workshop(bring your own or purchase from sales locker): 2-4pm<br />\n<br />\nBand Rings: 3-4pm
LOCATION:4401 N Ravenswood Ave
UID:e.697.2587
SEQUENCE:3
DTSTAMP:20260419T222236Z
URL:https://www.lincolnsquare.org/events/details/summer-open-house-at-lillstreet-art-center-2587
END:VEVENT

END:VCALENDAR
