BEGIN:VCALENDAR
VERSION:2.0
PRODID:-//ChamberMaster//Event Calendar 2.0//EN
METHOD:PUBLISH
X-PUBLISHED-TTL:P3D
REFRESH-INTERVAL:P3D
CALSCALE:GREGORIAN
BEGIN:VEVENT
DTSTART:20110528T170000Z
DTEND:20110528T220000Z
X-MICROSOFT-CDO-ALLDAYEVENT:FALSE
SUMMARY:Summer Open House Lillstreet Art Center
DESCRIPTION:FREE WORKSHOPS & DEMONSTRATIONS\n\nCelebrate the summer with Lillstreet Art Center!  Enjoy free workshops and demonstrations for the whole family.  We'll be grilling out in the front of the building\, decorating a bodega for WBEZ's What's Your Art?\n\nKids' Activities 12-5 pm\, How to use a DSLR camera 12-1 pm\, Basics of Lightroom Software 1-2 pm\, Decorating Bodega 1-4 pm\, Screenprint Hankies 2-3 pm\, Band Rings 2-3 pm\, Screenprint on paper 2-3:30 pm\, Chainmaille Earrings 3:30-4:30 pm.
X-ALT-DESC;FMTTYPE=text/html:FREE WORKSHOPS &amp\; DEMONSTRATIONS<br />\nCelebrate the summer with Lillstreet Art Center!&nbsp\; Enjoy free workshops and demonstrations for the whole family.&nbsp\; We&#39\;ll be grilling out in the front of the building\, decorating a bodega for WBEZ&#39\;s What&#39\;s Your Art?<br />\nKids&#39\; Activities 12-5 pm\, How to use a DSLR camera 12-1 pm\, Basics of Lightroom Software&nbsp\;1-2 pm\, Decorating Bodega 1-4 pm\, Screenprint Hankies 2-3 pm\, Band Rings 2-3 pm\, Screenprint on paper 2-3:30 pm\, Chainmaille Earrings 3:30-4:30 pm.
LOCATION:Lillstreet Art Center 4401 N. Ravenswood Chicago\, IL 60640 773-769-4226
UID:e.697.899
SEQUENCE:3
DTSTAMP:20260420T175138Z
URL:https://www.lincolnsquare.org/events/details/summer-open-house-lillstreet-art-center-899
END:VEVENT

END:VCALENDAR
