BEGIN:VCALENDAR
VERSION:2.0
PRODID:-//ChamberMaster//Event Calendar 2.0//EN
METHOD:PUBLISH
X-PUBLISHED-TTL:P3D
REFRESH-INTERVAL:P3D
CALSCALE:GREGORIAN
BEGIN:VEVENT
DTSTART;VALUE=DATE:20110824
DTEND;VALUE=DATE:20110829
TRANSP:TRANSPARENT
X-MICROSOFT-CDO-ALLDAYEVENT:TRUE
SUMMARY:Tango on the Town Festival
DESCRIPTION:Tango on the Town\n\nAugust 24th - August 28th\n\n\n\n2011 International Chicago Tango Fest and Old Town School of Folk Music are pleased to announce our continued collaboration to bring you another Tango on the Town.\n\n\n\nWorkshops and concerts will be held all over Chicago.  For more information visit www.chicagotangofest.com.\n\n\n\nWorkshops\n\n\n\nWorkshops taught by two award-winning tango couples:\n\n\n\nGuillermo Merio & Fernanda Ghi (Argentina)\n\nLuciano Brigante & Alejandra Orozco (Argentina/Mexico)\n\n\n\nTangata\n\nWednesday\, August 24th\, 8:30pm\n\n\n\nThe Old Town School of Folk Music in partnership with the American Tango Institute present Tangata to kick off the Tango on the Town Festival at Old Town School of Folk Music on August 24th - 28th.  This ensemble\, led by Uruguayan violinist Victoria Moreira\, combines talent of Argentina\, Uruguay and the US\, echoing the teeming port cities that gave birth to the music and dance of tango and will feature a guest bandoneonist.\n\n\n\nFree ticketed event.  $5 suggested donation. | BOX OFFICE: 773.728.6000 for reservations.
X-ALT-DESC;FMTTYPE=text/html:<strong>Tango on the Town<br />\nAugust 24th - August 28th</strong><br />\n<br />\n2011 International Chicago Tango Fest and Old Town School of Folk Music are pleased to announce our continued collaboration to bring you another Tango on the Town.<br />\n<br />\nWorkshops and concerts will be held all over Chicago.&nbsp\; For more information visit <a href="http://www.chicagotangofest.com">www.chicagotangofest.com</a>.<br />\n<br />\n<strong>Workshops</strong><br />\n<br />\nWorkshops taught by two award-winning tango couples:<br />\n<br />\nGuillermo Merio &amp\; Fernanda Ghi (Argentina)<br />\nLuciano Brigante &amp\; Alejandra Orozco (Argentina/Mexico)<br />\n<br />\n<strong>Tangata<br />\nWednesday\, August 24th\, 8:30pm</strong><br />\n<br />\nThe Old Town School of Folk Music in partnership with the American Tango Institute present Tangata to kick off the Tango on the Town Festival at Old Town School of Folk Music on August 24th - 28th.&nbsp\; This ensemble\, led by Uruguayan violinist Victoria Moreira\, combines talent of Argentina\, Uruguay and the US\, echoing the teeming port cities that gave birth to the music and dance of tango and will feature a guest bandoneonist.<br />\n<br />\nFree ticketed event.&nbsp\; $5 suggested donation. | BOX OFFICE: 773.728.6000 for reservations.<br />\n
LOCATION:
UID:e.697.1341
SEQUENCE:3
DTSTAMP:20260420T123823Z
URL:https://www.lincolnsquare.org/events/details/tango-on-the-town-festival-1341
END:VEVENT

END:VCALENDAR
