BEGIN:VCALENDAR
VERSION:2.0
PRODID:-//ChamberMaster//Event Calendar 2.0//EN
METHOD:PUBLISH
X-PUBLISHED-TTL:P3D
REFRESH-INTERVAL:P3D
CALSCALE:GREGORIAN
BEGIN:VEVENT
DTSTART:20111210T210000Z
DTEND:20111210T220000Z
X-MICROSOFT-CDO-ALLDAYEVENT:FALSE
SUMMARY:THE CALM SPIRIT: SPECIAL HOLIDAY EDITION
DESCRIPTION:THE CALM SPIRIT: SPECIAL HOLIDAY EDITION\n\nStress Relief Expert Tracie Hinton-Chavez\, LAc.\, presents 10 Quick Tips for Stress Management During the Holiday Season from a Traditional Chinese Medicine Perspective\n\n\n\nCHICAGO\, October 24\, 2011   We are all familiar with the everyday situations that arise increasing our stress hormones and leading to feelings of exhaustion\, anxiety\, sadness\, and sleep disturbances. Chronic exposure to stress has proven detrimental effects on both physical health and mental well-being. For many\, the holiday season magnifies stress with increased social gathering and demands including family get-togethers\, holiday decorating\, cooking\, entertaining\, traveling\, lack of money\, pressure to give gifts and opening your credit card bill at the end of it all.\n\nJoin us for Tracie's special holiday presentation "The Calm Spirit". Tracie's reputation for presenting the latest information with step by step practical application to daily life will have you feeling in control of your stressors and ready to relax and enjoy this year's holiday celebrations.\n\n\n\nSaturday: December 10th 2011\n\n3:00 PM\n\nAt\n\nRavenswood Chiropractic & Wellness Center\n\n5215 N Ravenswood\, Suite 105\n\nChicago\, IL 60640\n\n\n\nThe presentation is free\, however seating is limited so please register at the events section of our website www.RennWellness.com or by calling us at 773.878.7330
X-ALT-DESC;FMTTYPE=text/html:THE CALM SPIRIT: SPECIAL HOLIDAY EDITION<br />\nStress Relief Expert Tracie Hinton-Chavez\, LAc.\, presents 10 Quick Tips for Stress Management During the Holiday Season from a Traditional Chinese Medicine Perspective<br />\n<br />\nCHICAGO\, October 24\, 2011 &ndash\; We are all familiar with the everyday situations that arise increasing our stress hormones and leading to feelings of exhaustion\, anxiety\, sadness\, and sleep disturbances. Chronic exposure to stress has proven detrimental effects on both physical health and mental well-being. For many\, the holiday season magnifies stress with increased social gathering and demands including family get-togethers\, holiday decorating\, cooking\, entertaining\, traveling\, lack of money\, pressure to give gifts and opening your credit card bill at the end of it all.<br />\nJoin us for Tracie&rsquo\;s special holiday presentation &ldquo\;The Calm Spirit&rdquo\;. Tracie&rsquo\;s reputation for presenting the latest information with step by step practical application to daily life will have you feeling in control of your stressors and ready to relax and enjoy this year&rsquo\;s holiday celebrations.<br />\n<br />\nSaturday: December 10th 2011<br />\n3:00 PM<br />\nAt<br />\nRavenswood Chiropractic &amp\; Wellness Center<br />\n5215 N Ravenswood\, Suite 105<br />\nChicago\, IL 60640<br />\n<br />\nThe presentation is free\, however seating is limited so please register at the events section of our website www.RennWellness.com or by calling us at 773.878.7330<br />\n
LOCATION:5215 N Ravenswood\, Suite 105
UID:e.697.2207
SEQUENCE:3
DTSTAMP:20260420T061458Z
URL:https://www.lincolnsquare.org/events/details/the-calm-spirit-special-holiday-edition-2207
END:VEVENT

END:VCALENDAR
