BEGIN:VCALENDAR
VERSION:2.0
PRODID:-//ChamberMaster//Event Calendar 2.0//EN
METHOD:PUBLISH
X-PUBLISHED-TTL:P3D
REFRESH-INTERVAL:P3D
CALSCALE:GREGORIAN
BEGIN:VEVENT
DTSTART;VALUE=DATE:20120318
DTEND;VALUE=DATE:20120319
TRANSP:TRANSPARENT
X-MICROSOFT-CDO-ALLDAYEVENT:TRUE
SUMMARY:The Grafton's Post St. Patrick's Day Recovery!
DESCRIPTION:Recover from St. Patrick's Day at The Grafton!
X-ALT-DESC;FMTTYPE=text/html:<p>\n	Recover from St. Patrick&#39\;s Day at The Grafton!</p>\n
LOCATION:Sunday\, March 18 doors open at 11:00 am. Peter and Katie playing pub favorites from 1:30-4:30 pm. Live Irish Folk Session from 5:00-8:00pm Full Irish Breakfast\, Corned Beef & Cabbage\, Beef & Guinnes Stew\, Fish & Chips\, Sheppard's Pie\, and Bangers & Mash!
UID:e.697.2486
SEQUENCE:3
DTSTAMP:20260420T032102Z
URL:https://www.lincolnsquare.org/events/details/the-grafton-s-post-st-patrick-s-day-recovery-2486
END:VEVENT

END:VCALENDAR
