BEGIN:VCALENDAR
VERSION:2.0
PRODID:-//ChamberMaster//Event Calendar 2.0//EN
METHOD:PUBLISH
X-PUBLISHED-TTL:P3D
REFRESH-INTERVAL:P3D
CALSCALE:GREGORIAN
BEGIN:VEVENT
DTSTART:20110818T170000Z
DTEND:20110819T010000Z
X-MICROSOFT-CDO-ALLDAYEVENT:FALSE
SUMMARY:Third Thursdays
DESCRIPTION:Stroll along the business corridor on the third Thursday of June\, July\, and August and check out the great products and services the Lincoln Square community has to offer.
X-ALT-DESC;FMTTYPE=text/html:Stroll along the business corridor on the third Thursday of June\, July\, and August and check out the great products and services the Lincoln Square community has to offer.<span _fck_bookmark="1" style="display: none">&nbsp\;</span>
LOCATION:4700 Block of N. Lincoln Avenue (between W. Leland and W. Lawrence)
UID:e.697.1056
SEQUENCE:3
DTSTAMP:20260420T122538Z
URL:https://www.lincolnsquare.org/events/details/third-thursdays-1056
END:VEVENT

END:VCALENDAR
