BEGIN:VCALENDAR
VERSION:2.0
PRODID:-//ChamberMaster//Event Calendar 2.0//EN
METHOD:PUBLISH
X-PUBLISHED-TTL:P3D
REFRESH-INTERVAL:P3D
CALSCALE:GREGORIAN
BEGIN:VEVENT
DTSTART:20110824T230000Z
DTEND:20110825T010000Z
X-MICROSOFT-CDO-ALLDAYEVENT:FALSE
SUMMARY:Town Hall Meeting for 2012 Budget
DESCRIPTION:Town Hall Meeting for 2012 Budget\n\n\nJoin State Representative Ann Williams and Senate President John Cullerton for a Town Hall. The meeting will include updates on legislation and the Fiscal Year 2012 budget. Share your thoughts on the issues that affect you. The meeting will be held at Bell School\, 3730 N. Oakley\, on August 24th\, Wednesday from 6:00 - 8:00PM.
X-ALT-DESC;FMTTYPE=text/html:<p>\n	<strong><span style="font-size: 12pt"><span style="color: black"><span style="font-family: helvetica\, sans-serif">Town Hall Meeting for 2012 Budget</span></span></span></strong></p>\n<br />\n<span style="font-size: 12pt"><span style="color: black"><span style="font-family: helvetica\, sans-serif">Join State Representative Ann Williams and Senate President John Cullerton for a Town Hall. The meeting will include updates on legislation and the Fiscal Year 2012 budget. Share your thoughts on the issues that affect you. The meeting will be held at Bell School\, 3730 N. Oakley\, on August 24<sup>th</sup>\, Wednesday from 6:00 - 8:00PM.</span></span></span>
LOCATION:Bell School 3730 N. Oakley
UID:e.697.1349
SEQUENCE:3
DTSTAMP:20260420T124658Z
URL:https://www.lincolnsquare.org/events/details/town-hall-meeting-for-2012-budget-1349
END:VEVENT

END:VCALENDAR
