BEGIN:VCALENDAR
VERSION:2.0
PRODID:-//ChamberMaster//Event Calendar 2.0//EN
METHOD:PUBLISH
X-PUBLISHED-TTL:P3D
REFRESH-INTERVAL:P3D
CALSCALE:GREGORIAN
BEGIN:VEVENT
DTSTART;VALUE=DATE:20111205
DTEND;VALUE=DATE:20111223
TRANSP:TRANSPARENT
X-MICROSOFT-CDO-ALLDAYEVENT:TRUE
SUMMARY:TOYS FOR TOTS - Drop Off at Bethany Retirement Community
DESCRIPTION:Bethany Retirement Community is a designated TOYS FOR TOTS drop off site.  Boxes are located right inside our front entrance.\n\n \n\n**Remember Toys for Tots collects new toys only.  Thank you so much in advance for any donations! \n\n\n\nToys can be dropped off at:\n\n\n\nBethany Retirement Community\n\n4950 N. Ashland Ave.\n\nChicago\, IL 60640\n\nwww.bethanyretirement.org
X-ALT-DESC;FMTTYPE=text/html:<span style="font-size: 16px"><span style="font-family: times new roman"><strong><em>Bethany Retirement Community </em></strong></span>is a designated <strong><span style="color: #6600cc">TOYS FOR TOTS </span></strong>drop off site.&nbsp\; Boxes are located right inside our front entrance.</span><br />\n&nbsp\;<br />\n<em><span style="font-size: 12px"><span style="font-family: times new roman">**Remember Toys for Tots collects new toys only.&nbsp\; Thank you so much in advance for any donations!&nbsp\;</span></span></em><br />\n<br />\n<span style="font-size: medium"><span style="font-family: times new roman"><span style="font-family: arial">Toys can be dropped off at:</span></span></span><br clear="all" />\n<br />\n<span style="font-size: medium"><span style="font-family: times new roman"><em><strong><span style="color: #333399">Bethany Retirement Community</span></strong></em></span></span><br />\n<span style="font-size: medium"><span style="font-family: times new roman"><em><strong><span style="color: #333399">4950 N. Ashland Ave.</span></strong></em></span></span><br />\n<span style="font-size: medium"><span style="font-family: times new roman"><em><strong><span style="color: #333399">Chicago\, IL 60640</span></strong></em></span></span><br />\n<a href="http://www.bethanyretirement.org/" target="_blank"><span style="font-size: medium"><span style="font-family: times new roman"><span style="color: #0000ff">www.bethanyretirement.org</span></span></span></a><br />\n
LOCATION:4950 N. Ashland Avenue Chicago IL 60640
UID:e.697.2439
SEQUENCE:3
DTSTAMP:20260420T061459Z
URL:https://www.lincolnsquare.org/events/details/toys-for-tots-drop-off-at-bethany-retirement-community-2439
END:VEVENT

END:VCALENDAR
