BEGIN:VCALENDAR
VERSION:2.0
PRODID:-//ChamberMaster//Event Calendar 2.0//EN
METHOD:PUBLISH
X-PUBLISHED-TTL:P3D
REFRESH-INTERVAL:P3D
CALSCALE:GREGORIAN
BEGIN:VEVENT
DTSTART:20100824T133000Z
DTEND:20100824T143000Z
X-MICROSOFT-CDO-ALLDAYEVENT:FALSE
SUMMARY:Tuesday Topics: Leadership Marketing
DESCRIPTION:Tuesday's Topic will touch on critical thought leadership strategies for modern marketing\, from traditional media to new medias (press releases\, blogs\, social networking.) \n\nPlease feel free to bring your laptop as there will be wi-fi available.
X-ALT-DESC;FMTTYPE=text/html:<div><span style="font-size: 9pt">Tuesday&rsquo\;s Topic&nbsp\;will touch on critical thought leadership strategies for modern marketing\, from traditional media to new medias (press releases\, blogs\,&nbsp\;social networking.)</span><b><span style="font-size: 10.5pt"> <br /><br /></span></b><span style="font-size: 10.5pt">Please feel free to bring your laptop as there will be wi-fi available. </span></div>
LOCATION:DANK Haus4740 N Western Ave.2nd Floor
UID:e.697.625
SEQUENCE:3
DTSTAMP:20260421T092442Z
URL:https://www.lincolnsquare.org/events/details/tuesday-topics-leadership-marketing-625
END:VEVENT

END:VCALENDAR
