BEGIN:VCALENDAR
VERSION:2.0
PRODID:-//ChamberMaster//Event Calendar 2.0//EN
METHOD:PUBLISH
X-PUBLISHED-TTL:P3D
REFRESH-INTERVAL:P3D
CALSCALE:GREGORIAN
BEGIN:VEVENT
DTSTART:20100522T180000Z
DTEND:20100522T210000Z
X-MICROSOFT-CDO-ALLDAYEVENT:FALSE
SUMMARY:UEFA Champion Finals Bayern v Milan Viewing party
DESCRIPTION:Start your football viewing summer at DANK Haus with the UEFA Champion Final on the Projection screen with your fellow Germans\n\nBayern Munich v Inter Milano 1:35pm\n\n\n\nBeer\, Pretzel und landJäger available. Family friendly\n\nFree and open to the public
X-ALT-DESC;FMTTYPE=text/html:Start your football viewing summer at DANK Haus with the UEFA Champion Final on the Projection screen with your fellow Germans\n<br>Bayern Munich v Inter Milano 1:35pm\n<br>\n<br>Beer\, Pretzel und landJäger available. Family friendly\n<br>Free and open to the public
LOCATION:4740 N Western Ave Brandenburg Room
UID:e.697.512
SEQUENCE:3
DTSTAMP:20260421T123950Z
URL:https://www.lincolnsquare.org/events/details/uefa-champion-finals-bayern-v-milan-viewing-party-512
END:VEVENT

END:VCALENDAR
