BEGIN:VCALENDAR
VERSION:2.0
PRODID:-//ChamberMaster//Event Calendar 2.0//EN
METHOD:PUBLISH
X-PUBLISHED-TTL:P3D
REFRESH-INTERVAL:P3D
CALSCALE:GREGORIAN
BEGIN:VEVENT
DTSTART:20100522T190000Z
DTEND:20100522T203000Z
X-MICROSOFT-CDO-ALLDAYEVENT:FALSE
SUMMARY:Understanding Celiac Disease and Gluten Sensitivity
DESCRIPTION:On May 22nd 2010 at 2:00 P.M.\, Ravenswood Chiropractic and Wellness Center will present ?Understanding Celiac Disease and Gluten Sensitivity?.  This lecture will be presented by Dr. Todd Renn\, a Chiropractic Physician with extensive experience and training in science based nutrition.  The main topics to be discussed are: genetic/environmental factors\, triggers\, and signs and symptoms.   Dr. Renn will talk about recommendations for screening\, food allergy testing\,  and foods to avoid. He will also talk about supplementation options and resources for patients and family members who have Celiac Disease or Gluten Sensitivity.   The public is invited to attend this event\, which will last approximately an hour and a half\, followed by a half an hour for questions and answers. Space is limited and attendees must R.S.V.P. by calling (773) 878-7330 or by registering at www.RennWellness.com. This event is free. Ravenswood Chiropractic and Wellness Center is located at 5215 N. Ravenswood\, Suite 105\, Chicago\, IL 60640. For more information please contact Nadia Hare at (773) 878-7330.
X-ALT-DESC;FMTTYPE=text/html:On May 22nd 2010 at 2:00 P.M.\, Ravenswood Chiropractic and Wellness Center will present ?Understanding Celiac Disease and Gluten Sensitivity?.  This lecture will be presented by Dr. Todd Renn\, a Chiropractic Physician with extensive experience and training in science based nutrition.  The main topics to be discussed are: genetic/environmental factors\, triggers\, and signs and symptoms.   Dr. Renn will talk about recommendations for screening\, food allergy testing\,  and foods to avoid. He will also talk about supplementation options and resources for patients and family members who have Celiac Disease or Gluten Sensitivity.   The public is invited to attend this event\, which will last approximately an hour and a half\, followed by a half an hour for questions and answers. Space is limited and attendees must R.S.V.P. by calling (773) 878-7330 or by registering at www.RennWellness.com. This event is free. Ravenswood Chiropractic and Wellness Center is located at 5215 N. Ravenswood\, Suite 105\, Chicago\, IL 60640. For more information please contact Nadia Hare at (773) 878-7330. 
LOCATION:Ravenswood Chiropractic & Wellness Center 5215 North Ravenswood\, Suite 105 Chicago\, IL 60640
UID:e.697.312
SEQUENCE:3
DTSTAMP:20260421T123559Z
URL:https://www.lincolnsquare.org/events/details/understanding-celiac-disease-and-gluten-sensitivity-312
END:VEVENT

END:VCALENDAR
