BEGIN:VCALENDAR
VERSION:2.0
PRODID:-//ChamberMaster//Event Calendar 2.0//EN
METHOD:PUBLISH
X-PUBLISHED-TTL:P3D
REFRESH-INTERVAL:P3D
CALSCALE:GREGORIAN
BEGIN:VEVENT
DTSTART:20120121T180000Z
DTEND:20120121T230000Z
X-MICROSOFT-CDO-ALLDAYEVENT:FALSE
SUMMARY:Urban Folk Circuit at the Grafton Pub
DESCRIPTION:The Urban Folk Circuit\, Chicago's only traveling craft market series\, was initiated as a means to promote fellow\, local artisans\, musicians\, and neighborhood establishments in a way that is sustainable and beneficial to all.
X-ALT-DESC;FMTTYPE=text/html:The Urban Folk Circuit\, Chicago&#39\;s only traveling craft market series\, was initiated as a means to promote fellow\, local artisans\, musicians\, and neighborhood establishments in a way that is sustainable and beneficial to all.<br />\n<span _fck_bookmark="1" style="display: none">&nbsp\;</span>
LOCATION:The Grafton Pub 4530 N. Lincoln Ave. Chicago.
UID:e.697.2453
SEQUENCE:3
DTSTAMP:20260420T050014Z
URL:https://www.lincolnsquare.org/events/details/urban-folk-circuit-at-the-grafton-pub-2453
END:VEVENT

END:VCALENDAR
