BEGIN:VCALENDAR
VERSION:2.0
PRODID:-//ChamberMaster//Event Calendar 2.0//EN
METHOD:PUBLISH
X-PUBLISHED-TTL:P3D
REFRESH-INTERVAL:P3D
CALSCALE:GREGORIAN
BEGIN:VEVENT
DTSTART:20100716T000000Z
DTEND:20100716T010000Z
X-MICROSOFT-CDO-ALLDAYEVENT:FALSE
SUMMARY:Using Chinese Medicine to Heal From Pollution Related Illnesses
DESCRIPTION:Tracie Hinton-Chavez\, Licensed Acupuncturist\, presents:\n\n\n\nUsing Chinese Medicine to Heal From Pollution Related Illnesses.\n\n\n\nRavenswood Chiropractic & Wellness Center presents Tracie Hinton-Chavez\, a Licensed Acupuncturist and Traditional Chinese Medicine expert who will share with you the latest advances in detoxification strategies and how you can use traditional Chinese medicine to correct body disturbances that manifest as illness.  Join us for this free workshop!\n\n\n\nDate: Thursday: July 15th 2010\n\n\n\nTime: 7:00 P.M.\n\n\n\nPlace: Ravenswood Chiropractic & Wellness Center\n\n\n\n            5215 North Ravenswood\, Suite 105\n\n\n\n            Chicago\, IL 60640\n\n\n\n            www.RennWellness.com\n\n\n\n            (773) 878-7330\n\n\n\nBenefit from Tracie Hinton-Chavez?s comprehensive research and experience\n\n\n\nUnfortunately as much as we try to reduce our exposure to pollution and chemicals\, they still find a way into our bodies and can cause harm even in small doses.  Environmental poisons work by creating biochemical changes (inactivations or activations) of enzymes which can cause cellular changes which then may progress to physiological symptoms depending on the amount of exposure and exposure type.  Physiological Symptoms may range from nausea\, anemia (fatigue)\, headaches\, infertility\, back pain (renal) and depression to convulsions and even death.  We have all experienced the coughing\, headache\, and nausea caused from being poisoned by car exhaust parked in the middle of the highway during rush hour on a hot summer day.  The good news is that most chronic (long-term) effects are reversible even if full recovery takes a long time.  Since methods used by acupuncturists aim to restore energy flow in the body\, it is natural that acupuncturists have discovered excellent results in correcting  the chemical imbalances caused by daily exposure to environmental toxins and significantly reducing symptoms.  While this can be achieved with use of needles\, it is also possible to accomplish with acupressure (including home techniques that will be covered)\, gua sha\, cupping\, tui na and herbal formulations.   Join us to learn how you can use these techniques to stabilize your systems after daily exposure to toxins.\n\n\n\nIf you haven?t already done so\, please make your reservation now.  Seating is limited.  \n\n\n\nRegister at the events section of our website www.RennWellness.com or Call Nadia Hare at (773) 878-7330
X-ALT-DESC;FMTTYPE=text/html:Tracie Hinton-Chavez\, Licensed Acupuncturist\, presents:\n<br>\n<br>Using Chinese Medicine to Heal From Pollution Related Illnesses.\n<br>\n<br>Ravenswood Chiropractic &amp\; Wellness Center presents Tracie Hinton-Chavez\, a Licensed Acupuncturist and Traditional Chinese Medicine expert who will share with you the latest advances in detoxification strategies and how you can use traditional Chinese medicine to correct body disturbances that manifest as illness.  Join us for this free workshop!\n<br>\n<br>Date: Thursday: July 15th 2010\n<br>\n<br>Time: 7:00 P.M.\n<br>\n<br>Place: Ravenswood Chiropractic &amp\; Wellness Center\n<br>\n<br>            5215 North Ravenswood\, Suite 105\n<br>\n<br>            Chicago\, IL 60640\n<br>\n<br>            www.RennWellness.com\n<br>\n<br>            (773) 878-7330\n<br>\n<br>Benefit from Tracie Hinton-Chavez?s comprehensive research and experience\n<br>\n<br>Unfortunately as much as we try to reduce our exposure to pollution and chemicals\, they still find a way into our bodies and can cause harm even in small doses.  Environmental poisons work by creating biochemical changes (inactivations or activations) of enzymes which can cause cellular changes which then may progress to physiological symptoms depending on the amount of exposure and exposure type.  Physiological Symptoms may range from nausea\, anemia (fatigue)\, headaches\, infertility\, back pain (renal) and depression to convulsions and even death.  We have all experienced the coughing\, headache\, and nausea caused from being poisoned by car exhaust parked in the middle of the highway during rush hour on a hot summer day.  The good news is that most chronic (long-term) effects are reversible even if full recovery takes a long time.  Since methods used by acupuncturists aim to restore energy flow in the body\, it is natural that acupuncturists have discovered excellent results in correcting  the chemical imbalances caused by daily exposure to environmental toxins and significantly reducing symptoms.  While this can be achieved with use of needles\, it is also possible to accomplish with acupressure (including home techniques that will be covered)\, gua sha\, cupping\, tui na and herbal formulations.   Join us to learn how you can use these techniques to stabilize your systems after daily exposure to toxins.\n<br>\n<br>If you haven?t already done so\, please make your reservation now.  Seating is limited.  \n<br>\n<br>Register at the events section of our website www.RennWellness.com or Call Nadia Hare at (773) 878-7330\n<br>
LOCATION:Ravenswood Chiropractic & Wellness Center 5215 North Ravenswood\, Suite 105 Chicago\, IL 60640
UID:e.697.565
SEQUENCE:3
DTSTAMP:20260421T092524Z
URL:https://www.lincolnsquare.org/events/details/using-chinese-medicine-to-heal-from-pollution-related-illnesses-565
END:VEVENT

END:VCALENDAR
