BEGIN:VCALENDAR
VERSION:2.0
PRODID:-//ChamberMaster//Event Calendar 2.0//EN
METHOD:PUBLISH
X-PUBLISHED-TTL:P3D
REFRESH-INTERVAL:P3D
CALSCALE:GREGORIAN
BEGIN:VEVENT
DTSTART:20120214T180000Z
DTEND:20120214T180000Z
X-MICROSOFT-CDO-ALLDAYEVENT:FALSE
SUMMARY:Seattle Sutton's Valentine's Day Special
DESCRIPTION:Valentine's Day Special\n\n	Seattle Sutton's Healthy Eating\n\n	Give yourself and the one you love the gift of healthy eating!\n\n	Freshly Prepared Meals\n\n	Fresh Fruits\, Salads & Vegetables\n\n	1200 or 2000 Calorie Plan\n\n	\n\n	Ask about our vegetarian option\n\n	Save $10.00 off your first week\n\n	\n\n	* Low Fat\, Low Cholesterol\n\n	* Sodium Restricted\n\n	*No High Fructose Corn Syrup\n\n	*No Artificial Sweeteners\n\n	*No Trans Fats\n\n	*No Contracts or Startup Fees\n\n	*Pick Up or Delivery Available
X-ALT-DESC;FMTTYPE=text/html:<p>\n	Valentine&#39\;s Day Special<br />\n	Seattle Sutton&#39\;s Healthy Eating<br />\n	Give yourself and the one you love the gift of healthy eating!<br />\n	Freshly Prepared Meals<br />\n	Fresh Fruits\, Salads &amp\; Vegetables<br />\n	1200 or 2000 Calorie Plan<br />\n	<br />\n	Ask about our vegetarian option<br />\n	Save $10.00 off your first week<br />\n	<br />\n	<span style="font-family: 'tahoma'\, 'sans-serif'\; font-size: 10pt">*<span _fck_bookmark="1" style="display: none">&nbsp\;</span></span>Low Fat\, Low Cholesterol<br />\n	<span style="font-family: 'tahoma'\, 'sans-serif'\; font-size: 10pt">*<span _fck_bookmark="1" style="display: none">&nbsp\;</span></span>Sodium Restricted<br />\n	<span style="font-family: 'tahoma'\, 'sans-serif'\; font-size: 10pt">*No High Fructose Corn Syrup</span><br />\n	<span style="font-family: 'tahoma'\, 'sans-serif'\; font-size: 10pt">*No Artificial Sweeteners</span><br />\n	<span style="font-family: 'tahoma'\, 'sans-serif'\; font-size: 10pt">*No Trans Fats</span><br />\n	<span style="font-family: 'tahoma'\, 'sans-serif'\; font-size: 10pt">*No Contracts or Startup Fees</span><br />\n	<span style="font-family: 'tahoma'\, 'sans-serif'\; font-size: 10pt">*Pick Up or Delivery Available<span _fck_bookmark="1" style="display: none">&nbsp\;</span></span></p>\n
LOCATION:
UID:e.697.2474
SEQUENCE:3
DTSTAMP:20260420T031855Z
URL:https://www.lincolnsquare.org/events/details/valentine-s-day-special-2474
END:VEVENT

END:VCALENDAR
