BEGIN:VCALENDAR
VERSION:2.0
PRODID:-//ChamberMaster//Event Calendar 2.0//EN
METHOD:PUBLISH
X-PUBLISHED-TTL:P3D
REFRESH-INTERVAL:P3D
CALSCALE:GREGORIAN
BEGIN:VEVENT
DTSTART:20110910T170000Z
DTEND:20110910T170000Z
X-MICROSOFT-CDO-ALLDAYEVENT:FALSE
SUMMARY:Von Steuben Parade Float!
DESCRIPTION:March with Queen of Angels at the Von Steuben Day Annual Parade!  Meet at the CVS parking lot on Lincoln and wear your Queen of Angels t-shirts. Parade starts at 2 p.m.
X-ALT-DESC;FMTTYPE=text/html:March with Queen of Angels at the Von Steuben Day Annual Parade! &nbsp\;Meet at the CVS parking lot on Lincoln and wear your Queen of Angels t-shirts. Parade starts at 2 p.m.
LOCATION:CVS parking lot on Lincoln Avenue
UID:e.697.1346
SEQUENCE:3
DTSTAMP:20260420T110108Z
URL:https://www.lincolnsquare.org/events/details/von-steuben-parade-float-1346
END:VEVENT

END:VCALENDAR
