BEGIN:VCALENDAR
VERSION:2.0
PRODID:-//ChamberMaster//Event Calendar 2.0//EN
METHOD:PUBLISH
X-PUBLISHED-TTL:P3D
REFRESH-INTERVAL:P3D
CALSCALE:GREGORIAN
BEGIN:VEVENT
DTSTART:20120819T160000Z
DTEND:20120819T190000Z
X-MICROSOFT-CDO-ALLDAYEVENT:FALSE
SUMMARY:Warehouse Sale & Food Truck Round Up
DESCRIPTION:One day only!\n\n\n\nSkip brunch and stock up on GOURMET GOODIES at WHOLESALE PRICES!\n\n\n\nEat your little heart out on food truck munchies from BIG STAR\, THE SOUTHERN\, BEYOND BORDERS and MEATLOAF BAKERY.\n\n\n\nHave no fear\, liquor will be here! Free pours from CITY WINERY and STU'S BLOODY MARY.
X-ALT-DESC;FMTTYPE=text/html:One day only!<br />\n<br />\nSkip brunch and stock up on GOURMET GOODIES at WHOLESALE PRICES!<br />\n<br />\nEat your little heart out on food truck munchies from BIG STAR\, THE SOUTHERN\, BEYOND BORDERS and MEATLOAF BAKERY.<br />\n<br />\nHave no fear\, liquor will be here! Free pours from CITY WINERY and STU&#39\;S BLOODY MARY.<br />\n<br />\n<br />\n
LOCATION:JDY Gourmet\, 370 N. Carpenter\, Chicago
UID:e.697.3610
SEQUENCE:3
DTSTAMP:20260420T185230Z
URL:https://www.lincolnsquare.org/events/details/warehouse-sale-food-truck-round-up-3610
END:VEVENT

END:VCALENDAR
