BEGIN:VCALENDAR
VERSION:2.0
PRODID:-//ChamberMaster//Event Calendar 2.0//EN
METHOD:PUBLISH
X-PUBLISHED-TTL:P3D
REFRESH-INTERVAL:P3D
CALSCALE:GREGORIAN
BEGIN:VEVENT
DTSTART:20110212T000000Z
DTEND:20110212T070000Z
X-MICROSOFT-CDO-ALLDAYEVENT:FALSE
SUMMARY:Weiberfastnacht - Women's Karneval
DESCRIPTION:Rheinischer Verein Prinzengarde invites you to Weiberfastnacht - new location this year - celebrate with us at the DANK Haus!\n\n\n\nThe event is the kickoff party for the German Karneval season and the women are in charge. Ladies will enjoy dancing to techno under the disco ball and generally being naughty girls while shirtless men in bow ties serve them.\n\n\n\nEveryone is encouraged to come in costume ? men are especially encouraged to... don a dress and wig. Those men that dare to wear a tie will have it cut off by scissor wielding ladies but do not fret: tradition says a kiss is due as compensation.\n\n\n\nEntertainment abounds from German band Paloma to gender bending skits to provokant stand-up and dancing all night to modern German and American pop and techno hits.\n\n\n\nRefreshments available\, especially krapfen - the traditional sugar doughnut of the Karneval season. Goulash\, leberkäse sandwiches and cash bar available.\n\n\n\nYou don't have to be German to enjoy this night of debauchery!\n\n\n\nAll are welcome - but remember\, women rule the night!
X-ALT-DESC;FMTTYPE=text/html:Rheinischer Verein Prinzengarde invites you to Weiberfastnacht - new location this year - celebrate with us at the DANK Haus!\n<br>\n<br>The event is the kickoff party for the German Karneval season and the women are in charge. Ladies will enjoy dancing to techno under the disco ball and generally being naughty girls while shirtless men in bow ties serve them.\n<br>\n<br>Everyone is encouraged to come in costume ? men are especially encouraged to... don a dress and wig. Those men that dare to wear a tie will have it cut off by scissor wielding ladies but do not fret: tradition says a kiss is due as compensation.\n<br>\n<br>Entertainment abounds from German band Paloma to gender bending skits to provokant stand-up and dancing all night to modern German and American pop and techno hits.\n<br>\n<br>Refreshments available\, especially krapfen - the traditional sugar doughnut of the Karneval season. Goulash\, leberkäse sandwiches and cash bar available.\n<br>\n<br>You don't have to be German to enjoy this night of debauchery!\n<br>\n<br>All are welcome - but remember\, women rule the night!
LOCATION:4740 n Western Ave Chicago IL 60625
UID:e.697.720
SEQUENCE:3
DTSTAMP:20260420T221453Z
URL:https://www.lincolnsquare.org/events/details/weiberfastnacht-women-s-karneval-720
END:VEVENT

END:VCALENDAR
